BEGIN:VCALENDAR
VERSION:2.0
PRODID:-//Agence de Communication RH &amp; Marketing RH - Ideuzo - ECPv6.15.20//NONSGML v1.0//EN
CALSCALE:GREGORIAN
METHOD:PUBLISH
X-ORIGINAL-URL:https://ideuzo.com
X-WR-CALDESC:Évènements pour Agence de Communication RH &amp; Marketing RH - Ideuzo
REFRESH-INTERVAL;VALUE=DURATION:PT1H
X-Robots-Tag:noindex
X-PUBLISHED-TTL:PT1H
BEGIN:VTIMEZONE
TZID:Europe/Paris
BEGIN:DAYLIGHT
TZOFFSETFROM:+0100
TZOFFSETTO:+0200
TZNAME:CEST
DTSTART:20250330T010000
END:DAYLIGHT
BEGIN:STANDARD
TZOFFSETFROM:+0200
TZOFFSETTO:+0100
TZNAME:CET
DTSTART:20251026T010000
END:STANDARD
BEGIN:DAYLIGHT
TZOFFSETFROM:+0100
TZOFFSETTO:+0200
TZNAME:CEST
DTSTART:20260329T010000
END:DAYLIGHT
BEGIN:STANDARD
TZOFFSETFROM:+0200
TZOFFSETTO:+0100
TZNAME:CET
DTSTART:20261025T010000
END:STANDARD
BEGIN:DAYLIGHT
TZOFFSETFROM:+0100
TZOFFSETTO:+0200
TZNAME:CEST
DTSTART:20270328T010000
END:DAYLIGHT
BEGIN:STANDARD
TZOFFSETFROM:+0200
TZOFFSETTO:+0100
TZNAME:CET
DTSTART:20271031T010000
END:STANDARD
END:VTIMEZONE
BEGIN:VEVENT
DTSTART;VALUE=DATE:20260108
DTEND;VALUE=DATE:20260109
DTSTAMP:20260424T163308
CREATED:20251226T154457Z
LAST-MODIFIED:20251226T154457Z
UID:10000189-1767830400-1767916799@ideuzo.com
SUMMARY:Gala du Grand prix des Agences de l'Année
DESCRIPTION:L’agence Ideuzo est fière d’annoncer qu’elle a été sacrée Agence de communication interne de l’année 2025 lors de la 46ème édition du Grand Prix des Agences de l’Année. \nPour l’occasion\, elle sera présente aux côtés des autres entreprises lauréates lors du Dîner des Rois Mages le jeudi 8 janvier 2025 à l’Intercontinental-Le Grand Paris. Le repas réunira les dirigeants des agences de l’Année\, leurs invités\, les Communicants de l’Année\, le Comité d’honneur ainsi que la presse professionnelle.
URL:https://ideuzo.com/date-rh/gala-du-grand-prix-des-agences-de-lannee/
LOCATION:Paris
CATEGORIES:Évènement RH
ATTACH;FMTTYPE=image/png:https://ideuzo.com/wp-content/uploads/2025/12/GPAA_logo2025_generique-scaled.png
END:VEVENT
BEGIN:VEVENT
DTSTART;VALUE=DATE:20260128
DTEND;VALUE=DATE:20260130
DTSTAMP:20260424T163308
CREATED:20251226T154820Z
LAST-MODIFIED:20251226T154838Z
UID:10000190-1769558400-1769731199@ideuzo.com
SUMMARY:HR Technologies France
DESCRIPTION:Embarquez pour la Learning Expedition Ideuzo\nLe 28 et 29 janvier 2026\, embarquez pour une expérience unique au cœur d’HR Tech : la Learning Expedition Ideuzo. \nDeux jours pour faire le tri dans la jungle des solutions RH et repartir avec votre shortlist prête à l’emploi. On vous guide\, vous testez\, vous choisissez. \nUn parcours immersif\, pensé pour aider chaque entreprise à décrypter l’univers des solutions RH et à identifier les outils les plus adaptés à ses besoins – qu’il s’agisse d’un ATS\, d’un SIRH\, d’un agent IA\, ou de tout autre levier d’innovation RH. \nUne expérience unique 100% personnalisée\nFace à la profusion de solutions et d’acteurs sur le marché\, il est parfois difficile de s’y retrouver ou de trouver ceux qui “fit” avec vos besoins réels. \nC’est là que nous intervenons. \nPendant deux jours\, nos experts vous accompagnent dans un parcours sur mesure\, construit autour de vos priorités : digitalisation RH\, expérience collaborateur\, performance recrutement\, automatisation des processus… \nL’objectif ? Repartir avec les bons outils\, adaptés à vos enjeux RH. \nLe parcours en 4 étapes\n👉 Brief express en amont \nUn questionnaire de cadrage (2-3 min) pour comprendre vos enjeux : digitalisation RH\, expérience collaborateur\, performance recrutement\, automatisation… \n👉 Sélection indépendante & sur-mesure \nUne shortlist d’exposants objectifs et pertinents\, alignés avec votre contexte et vos critères. \n👉 Parcours guidé le jour J \nUn itinéraire orchestré par nos experts : rendez-vous planifiés\, démos ciblées et comparaisons éclair chez les éditeurs. \n👉 Debrief post-salon \nUn retour individualisé pour trancher sereinement : points forts\, limites\, ROI attendu et next steps. \nPourquoi c’est stratégique ?\n\nVous gagnez du temps : fini les déambulations sans but dans les allées du salon ;\nVous structurez votre réflexion avec un partenaire neutre ;\nVous bénéficiez d’un benchmark vivant des solutions clés du marché ;\nVous enclenchez un projet outillé et sécurisé\, sans vous faire vendre le dernier gadget à la mode.\n\nUn regard sans biais sur les solutions RH\nIdeuzo collabore avec l’ensemble des acteurs majeurs du marché RH : éditeurs\, intégrateurs\, startups et innovations en devenir. \nCette vision globale nous permet d’accompagner nos clients en toute impartialité. Notre objectif n’est pas de vous vendre un outil\, mais de vous conseiller le meilleur choix en fonction de votre réalité métier. \nGrâce à notre connaissance approfondie de l’écosystème RH\, nous sommes capables de vous faire gagner un temps précieux\, d’éviter les erreurs de sélection et de vous ouvrir les portes des solutions qui feront vraiment la différence pour vous. \nIdeuzo\, votre copilote RH\nDepuis 18 ans\, Ideuzo at_work est le partenaire de référence des entreprises pour leur communication RH et leur stratégie de recrutement. Avec plus de 80 collaborateurs répartis dans 12 agences en France et plusieurs pays d’Europe\, nous intervenons au plus près des besoins de nos clients. \nSpécialisée dans le sourcing\, le marketing RH\, la communication corporate et l’optimisation des processus de recrutement grâce à l’IA\, notre agence accompagne plus de 1 300 entreprises en Europe\, tous secteurs confondus. \nPrêt à embarquer ?\n1️⃣ Inscrivez-vous dès maintenant en remplissant le questionnaire de cadrage (2-3 min). \n2️⃣ Le jour J\, vivez votre Learning Expedition Ideuzo à HR Tech : un parcours sur mesure\, des rencontres stratégiques et une vision claire pour vos projets RH. \nLe futur des RH se construit ici. \nRejoignez Ideuzo pour une expédition pas comme les autres – un voyage au cœur de l’innovation\, guidé par ceux qui connaissent le terrain mieux que quiconque.
URL:https://ideuzo.com/date-rh/hr-technologies-france/
LOCATION:Paris
CATEGORIES:Évènement RH
ATTACH;FMTTYPE=image/png:https://ideuzo.com/wp-content/uploads/2025/12/Logo-Ideuzo-260x260-1.png
END:VEVENT
BEGIN:VEVENT
DTSTART;VALUE=DATE:20260305
DTEND;VALUE=DATE:20260306
DTSTAMP:20260424T163308
CREATED:20260226T082806Z
LAST-MODIFIED:20260226T082806Z
UID:10000191-1772668800-1772755199@ideuzo.com
SUMMARY:Matinale RH
DESCRIPTION:Ideuzo at_work vous invite à un petit-déjeuner professionnel à Lille ☕.\n📍 Paloma Lille – 9 Place Rihour\n🗓 Jeudi 5 mars 2026 \nVenez échanger avec des professionnel·le·s du recrutement autour d’un café\, découvrir des idées innovantes et repartir avec des solutions concrètes pour booster vos actions. \nInscrivez-vous dès maintenant : \nhttps://www.advertsdata.fr/petit-dejeuner-a-lille-outils-et-methodes-pour-reussir/ \nAu programme :\n \n\nIdentifier les entreprises qui recrutent – index Advertsdata\nConstituer votre vivier de talents – Pass Interim\nStructurer vos actions commerciales – job explorer\nFormer vos équipes sur les compétences clés – Inter’Pro Formation\nL’IA dans le recrutement : risques\, opportunités et cas d’usage – Ideuzo\n\nCoorganisé par job explorer\, Pass Interim\, Inter’Pro Formation et index Advertsdata\, ce rendez-vous vous donnera des clés concrètes pour relever vos défis quotidiens en recrutement.
URL:https://ideuzo.com/date-rh/matinale-rh/
LOCATION:Paloma Lille\, 9 Place Rihour
CATEGORIES:Ideuzo at_work
ATTACH;FMTTYPE=image/webp:https://ideuzo.com/wp-content/uploads/2026/02/Logo-petit-dej-scaled.webp
END:VEVENT
BEGIN:VEVENT
DTSTART;VALUE=DATE:20260312
DTEND;VALUE=DATE:20260313
DTSTAMP:20260424T163308
CREATED:20260226T083335Z
LAST-MODIFIED:20260226T083335Z
UID:10000192-1773273600-1773359999@ideuzo.com
SUMMARY:Matinée RH - CEGID
DESCRIPTION:CEGID organise une matinée RH le 12 mars à Paris. \nSi vous vous interrogez sur la manière d’attirer\, développer et fidéliser les talents autrement qu’avec une organisation par postes\, c’est probablement le moment d’y participer ! \nEn 2h30 seulement\, vous découvrirez comment des équipes RH des Skills Based Oraganization commencent concrètement à structurer une approche pilotée par les compétences\, avec des échanges entre pairs et un atelier pratique animé par nos experts Arnaud D’Hoine 🐿️ Flora Brousse & Nicolas Pasetti pour repartir avec des premières actions ! \n📅 Jeudi 12 mars 2026 – 8h45 à 11h30\n📍 Paris | Keeze Liège\n⚠️ Les inscriptions ferment dès que la capacité est atteinte. \n👉 Réservez votre place dès maintenant https://events.cegid.com/skills-based-organization-marque-employeur
URL:https://ideuzo.com/date-rh/matinee-rh-cegid/
LOCATION:Paris | Keeze Liège
CATEGORIES:Ideuzo at_work
ATTACH;FMTTYPE=image/webp:https://ideuzo.com/wp-content/uploads/2026/02/cegid.webp
END:VEVENT
BEGIN:VEVENT
DTSTART;VALUE=DATE:20260312
DTEND;VALUE=DATE:20260313
DTSTAMP:20260424T163308
CREATED:20260226T083758Z
LAST-MODIFIED:20260226T083758Z
UID:10000193-1773273600-1773359999@ideuzo.com
SUMMARY:Talma - Marque employeur
DESCRIPTION:Rendez-vous à Talma\, l’événement dédié à la marque employeur\, qui se tiendra le jeudi 12 mars au H7 à Lyon. \nL’équipe Ideuzo sera sur place\, et ce serait un vrai plaisir de vous y croiser. \nÀ cette occasion\, nous animerons une table ronde à 11h20 sur le thème :\n« La communication interne\, grande oubliée de la marque employeur ? » \n🎙️ Avec :\n \n\nNathalie Hoffet – Responsable Marketing RH & Développement Durable chez Volkswagen Group France\nLéo Bernard – co-fondateur de Blendy\nJulie Gameiro – Responsable attractivité chez Ideuzo\n\nCette journée couvrira l’ensemble du parcours talent\, de l’onboarding à l’offboarding\, en abordant des enjeux clés tels que le recrutement\, la fidélisation\, la formation\, l’inclusion\, l’ambassadorat ou encore le learning & development.
URL:https://ideuzo.com/date-rh/talma-marque-employeur/
LOCATION:Lyon\, Place de la Bourse\, Lyon\, 69002
CATEGORIES:Ideuzo at_work
ATTACH;FMTTYPE=image/webp:https://ideuzo.com/wp-content/uploads/2026/02/TALMA.webp
END:VEVENT
BEGIN:VEVENT
DTSTART;VALUE=DATE:20260312
DTEND;VALUE=DATE:20260313
DTSTAMP:20260424T163308
CREATED:20260226T084239Z
LAST-MODIFIED:20260226T084239Z
UID:10000194-1773273600-1773359999@ideuzo.com
SUMMARY:Grand Prix de l'ANDRH
DESCRIPTION:Participez au Grand Prix de l’ANDRH 2026 et faites briller votre équipe RH !\n\nL’ANDRH lance sa 4ème édition du Grand Prix de l’ANDRH\, jeudi 12 mars 2026 à Lyon ! \nUn Prix visant à récompenser les meilleures pratiques RH selon 4 thématiques : « Dialogue social »\, « Care\, Diversité & inclusion »\, « Environnement » et « Tech ». Et si cette année vous faisiez briller votre équipe RH en participant au Grand Prix ? \nPour cela\, c’est simple ! Il suffit de remplir un formulaire de candidature en ligne en détaillant un projet que vous auriez mis en place dans votre organisation au regard de l’une ou plusieurs des 4 catégories.
URL:https://ideuzo.com/date-rh/grand-prix-de-landrh/
LOCATION:Lyon\, Place de la Bourse\, Lyon\, 69002
CATEGORIES:Évènement RH
ATTACH;FMTTYPE=image/webp:https://ideuzo.com/wp-content/uploads/2026/02/Grand-Prix.webp
END:VEVENT
BEGIN:VEVENT
DTSTART;VALUE=DATE:20260326
DTEND;VALUE=DATE:20260327
DTSTAMP:20260424T163308
CREATED:20260226T084659Z
LAST-MODIFIED:20260226T084659Z
UID:10000195-1774483200-1774569599@ideuzo.com
SUMMARY:Petit déjeuner Ideuzo x Jobteaser
DESCRIPTION:Et si vous preniez 40 minutes pour mieux comprendre comment recruter les jeunes diplômés en 2026 ? \nIdeuzo et JobTeaser organisent un petit-déjeuner autour de la nouvelle étude JobTeaser x EDHEC « Jeunes diplômés : les nouvelles règles de recrutement en 2026 »\, réalisée auprès de 2 500 étudiants et jeunes diplômés. \nAu programme :\n \n\nLes attentes clés des jeunes talents face à l’entreprise et au monde du travail\nLeurs critères d’attractivité (poste\, durée\, évolution\, formation)\nLes leviers concrets pour améliorer l’expérience candidat\n\n📅 jeudi 26 mars 2026\n🕣 8h30 – 10h\n📍 WeWork – 7 rue de Madrid\, 75008\, Paris \nL’étude sera co-présentée par Bernard Blottin (Ideuzo) et Michael Giaj (JobTeaser)\, avec un regard croisé entre analyse marché et retours terrain. \n👉 Je m’inscris\nPlaces limitées
URL:https://ideuzo.com/date-rh/petit-dejeuner-ideuzo-x-jobteaser/
LOCATION:WeWork Paris
CATEGORIES:Ideuzo at_work
ATTACH;FMTTYPE=image/webp:https://ideuzo.com/wp-content/uploads/2026/02/JObteaser-x-ideuzo.webp
END:VEVENT
BEGIN:VEVENT
DTSTART;VALUE=DATE:20260402
DTEND;VALUE=DATE:20260403
DTSTAMP:20260424T163308
CREATED:20260401T094145Z
LAST-MODIFIED:20260401T094145Z
UID:10000196-1775088000-1775174399@ideuzo.com
SUMMARY:Afterwork Ideuzo x Assessfirst
DESCRIPTION:Ideuzo et AssessFirst organise à un afterwork exclusif le jeudi 2 avril 2026\, à partir de 17h\, au Hoxton Brussels. \nNous réunirons une sélection de décideurs RH belges pour un moment convivial autour d’un verre et d’un buffet. \nAu programme :\n• Un éclairage sur les enjeux actuels du recrutement\n• La découverte en avant-première de SCAN\, la nouvelle solution AssessFirst de préqualification intelligente pour gagner du temps et fiabiliser la sélection\n• Le regard d’Ideuzo\, expert en communication RH et marque employeur\, sur les meilleures stratégies d’acquisition de talents \nCe sera surtout une belle occasion de se rencontrer (ou de se retrouver) en vrai et d’échanger entre pairs. \nLes places sont limitées à une vingtaine de participants.
URL:https://ideuzo.com/date-rh/afterwork-ideuzo-x-assessfirst/
LOCATION:Bruxelles
CATEGORIES:Ideuzo at_work
ATTACH;FMTTYPE=image/svg+xml:https://ideuzo.com/wp-content/uploads/2024/04/logo_ideuzo_purplegreen.svg
END:VEVENT
BEGIN:VEVENT
DTSTART;VALUE=DATE:20260423
DTEND;VALUE=DATE:20260424
DTSTAMP:20260424T163308
CREATED:20260401T094815Z
LAST-MODIFIED:20260401T094815Z
UID:10000197-1776902400-1776988799@ideuzo.com
SUMMARY:Indeed x Ideuzo - Rencontres partenaires
DESCRIPTION:Le 23 avril\, Indeed et Ideuzo vous donnent rendez-vous à Lyon pour une matinée d’échanges dédiée aux enjeux actuels de la marque employeur. \n\n\nDans un contexte où les attentes des candidats évoluent rapidement\, il devient essentiel d’aligner promesse employeur et réalité interne. Cette rencontre sera l’occasion de décrypter les bonnes pratiques et de partager des retours d’expérience concrets. \n🕘 Au programme : \n\n8h30 : Accueil & petit-déjeuner\n9h00 : Présentation Indeed x Ideuzo\n10h00 : Session de questions & échanges\n\n👉 Inscrivez-vous dès maintenant pour réserver votre place.
URL:https://ideuzo.com/date-rh/indeed-x-ideuzo-rencontres-partenaires/
LOCATION:Lyon\, Place de la Bourse\, Lyon\, 69002
CATEGORIES:Ideuzo at_work
ATTACH;FMTTYPE=image/webp:https://ideuzo.com/wp-content/uploads/2026/04/Capture-decran-2026-04-01-a-11.46.00-1-2.webp
END:VEVENT
BEGIN:VEVENT
DTSTART;VALUE=DATE:20260428
DTEND;VALUE=DATE:20260429
DTSTAMP:20260424T163308
CREATED:20260401T095450Z
LAST-MODIFIED:20260401T095450Z
UID:10000198-1777334400-1777420799@ideuzo.com
SUMMARY:Matinale RH Ideuzo - Marché de l’emploi
DESCRIPTION:☕️ Matinale RH à Laval : marché de l’emploi\, attentes candidats et innovations (IA\, HR Tech) \n\n\n\n\nDans un contexte de tensions de recrutement\, les pratiques RH évoluent rapidement sous l’impulsion de l’IA et des nouvelles solutions HR Tech. \nIdeuzo vous invite à une matinale à Laval\, autour d’un petit-déjeuner\, pour décrypter le marché de l’emploi local\, mieux comprendre les attentes des candidats et identifier des leviers concrets pour renforcer votre attractivité. \nAu programme : \n\nDécryptage du marché de l’emploi en Mayenne\nCompréhension des nouvelles attentes candidats\nCas d’usage concrets autour de l’IA et des outils HR Tech\nRetour d’expérience client\nÉchanges entre professionnels RH\n\nAvec la participation de Bernard Blottin\, expert en stratégie média RH & IA \n👉 Réservez votre place dès maintenant (places limitées)
URL:https://ideuzo.com/date-rh/matinale-rh-ideuzo-marche-de-lemploi/
LOCATION:Laval\, Laval\, France
CATEGORIES:Ideuzo at_work
ATTACH;FMTTYPE=image/webp:https://ideuzo.com/wp-content/uploads/2026/04/Capture-decran-2026-04-01-a-11.53.41-1-2.webp
END:VEVENT
END:VCALENDAR