BEGIN:VCALENDAR
VERSION:2.0
PRODID:-//Agence de Communication RH &amp; Marketing RH - Ideuzo - ECPv6.15.20//NONSGML v1.0//EN
CALSCALE:GREGORIAN
METHOD:PUBLISH
X-WR-CALNAME:Agence de Communication RH &amp; Marketing RH - Ideuzo
X-ORIGINAL-URL:https://ideuzo.com
X-WR-CALDESC:Évènements pour Agence de Communication RH &amp; Marketing RH - Ideuzo
REFRESH-INTERVAL;VALUE=DURATION:PT1H
X-Robots-Tag:noindex
X-PUBLISHED-TTL:PT1H
BEGIN:VTIMEZONE
TZID:Europe/Paris
BEGIN:DAYLIGHT
TZOFFSETFROM:+0100
TZOFFSETTO:+0200
TZNAME:CEST
DTSTART:20240331T010000
END:DAYLIGHT
BEGIN:STANDARD
TZOFFSETFROM:+0200
TZOFFSETTO:+0100
TZNAME:CET
DTSTART:20241027T010000
END:STANDARD
BEGIN:DAYLIGHT
TZOFFSETFROM:+0100
TZOFFSETTO:+0200
TZNAME:CEST
DTSTART:20250330T010000
END:DAYLIGHT
BEGIN:STANDARD
TZOFFSETFROM:+0200
TZOFFSETTO:+0100
TZNAME:CET
DTSTART:20251026T010000
END:STANDARD
BEGIN:DAYLIGHT
TZOFFSETFROM:+0100
TZOFFSETTO:+0200
TZNAME:CEST
DTSTART:20260329T010000
END:DAYLIGHT
BEGIN:STANDARD
TZOFFSETFROM:+0200
TZOFFSETTO:+0100
TZNAME:CET
DTSTART:20261025T010000
END:STANDARD
END:VTIMEZONE
BEGIN:VEVENT
DTSTART;VALUE=DATE:20250111
DTEND;VALUE=DATE:20250112
DTSTAMP:20260425T131153
CREATED:20250108T104641Z
LAST-MODIFIED:20250113T083028Z
UID:10000046-1736553600-1736639999@ideuzo.com
SUMMARY:Salon Studyrama
DESCRIPTION:Salons Studyrama Sup’Alternance & Apprentissage\nSur les salons Studyrama Sup’Alternance & Apprentissage de Dijon et Strasbourg\, vous pourrez voir 500 Formations de Bac à Bac+5 (BTS\, des Grandes Ecoles\, des Ecoles spécialisées\, Entreprises…). \nVous pourrez assister à des conférences et retrouver 300 offres d’alternance.
URL:https://ideuzo.com/date-rh/salon-supalternance/
LOCATION:Dijon
CATEGORIES:Évènement RH
ATTACH;FMTTYPE=image/png:https://ideuzo.com/wp-content/uploads/2025/01/salon-sup-alternance-paris-2016.png
END:VEVENT
BEGIN:VEVENT
DTSTART;VALUE=DATE:20250111
DTEND;VALUE=DATE:20250112
DTSTAMP:20260425T131153
CREATED:20250107T152012Z
LAST-MODIFIED:20250113T142954Z
UID:10000030-1736553600-1736639999@ideuzo.com
SUMMARY:Salon L'Etudiant
DESCRIPTION:Le Salon de l’Etudiant à Toulon 2025\n\nVous êtes au lycée ou en études supérieures et vous réfléchissez à votre futur parcours d’études ? Le Salon de l’Etudiant 2025 à Toulon est le rendez-vous incontournable pour éclairer votre projet d’orientation et façonner votre avenir.\n\nCet événement\, dédié à l’orientation et à la formation rassemble des représentants d’établissements d’enseignement supérieur\, de grandes écoles\, d’universités\, d’instituts et d’organismes de formation spécialisés. Il vous offre l’opportunité de découvrir un large panel de formations et d’échanger avec des professionnels qualifiés.\n\nA travers des conférences\, des ateliers et des stands d’information\, renseignez-vous sur les débouchés professionnels\, les conditions d’admission\, les programmes de formation\, tout en développant votre réseau et en affinant vos choix d’orientation.
URL:https://ideuzo.com/date-rh/salon-letudiant-5/
LOCATION:Toulon\, Place Besagne\, Toulon\, 83000
CATEGORIES:Évènement RH
ATTACH;FMTTYPE=image/webp:https://ideuzo.com/wp-content/uploads/2025/01/affiche-salon-letudiant-2.webp
END:VEVENT
BEGIN:VEVENT
DTSTART;VALUE=DATE:20250111
DTEND;VALUE=DATE:20250112
DTSTAMP:20260425T131153
CREATED:20250111T222321Z
LAST-MODIFIED:20250213T133629Z
UID:10000087-1736553600-1736639999@ideuzo.com
SUMMARY:SEEKUBE Métiers finance & audit
DESCRIPTION:Des événements de recrutement pour tous ! \nSeekube c’est 500 jobdatings par an pour adresser tous les métiers. Inscris-toi sur la plateforme pour participer aux événements\, accède aux agendas des recruteurs de ton choix pour leur proposer un entretien\, reçois 100% de réponses à toutes tes candidatures.
URL:https://ideuzo.com/date-rh/seekube-metiers-finance-audit/
LOCATION:Virtuel
CATEGORIES:Évènement RH
END:VEVENT
BEGIN:VEVENT
DTSTART;TZID=Europe/Paris:20250109T090000
DTEND;TZID=Europe/Paris:20250111T170000
DTSTAMP:20260425T131153
CREATED:20241216T102926Z
LAST-MODIFIED:20250113T142456Z
UID:10000001-1736413200-1736614800@ideuzo.com
SUMMARY:Salon du lycée et de l’étudiant
DESCRIPTION:Salon du lycéen et de l’étudiant 2025\nVous êtes au lycée ou en études supérieures et vous réfléchissez à votre futur parcours d’études ? Le Salon du lycéen et de l’étudiant 2025 à Rennes est le rendez-vous incontournable pour éclairer votre projet d’orientation et façonner votre avenir. \nCet événement\, dédié à l’orientation et à la formation rassemble des représentants d’établissements d’enseignement supérieur\, de grandes écoles\, d’universités\, d’instituts et d’organismes de formation spécialisés. Il vous offre l’opportunité de découvrir un large panel de formations et d’échanger avec des professionnels qualifiés. \nA travers des conférences\, des ateliers et des stands d’information\, renseignez-vous sur les débouchés professionnels\, les conditions d’admission\, les programmes de formation\, tout en développant votre réseau et en affinant vos choix d’orientation.
URL:https://ideuzo.com/date-rh/salon-du-lycee-et-de-letudiant/
LOCATION:Rennes Parc Expo\, 2 La Haie Gautrais\, Bruz\, 35170\, France
CATEGORIES:Évènement RH
ATTACH;FMTTYPE=image/webp:https://ideuzo.com/wp-content/uploads/2024/12/salon_de_letudiant_rennes_2025.webp
END:VEVENT
BEGIN:VEVENT
DTSTART;VALUE=DATE:20250101
DTEND;VALUE=DATE:20250102
DTSTAMP:20260425T131153
CREATED:20241220T095258Z
LAST-MODIFIED:20250228T134110Z
UID:10000004-1735689600-1735775999@ideuzo.com
SUMMARY:Dry January
DESCRIPTION:Le défi du mois sans alcool\nInviter l’ensemble de la population à faire une pause dans sa consommation d’alcool\, durant tout le mois de janvier\, telle est l’ambition du Dry January ou Défi de janvier. Cette campagne est l’occasion de faire le point sur sa consommation d’alcool et de constater les bénéfices de cette pause. \n\n\n\nEn France\, l’alcool est l’une des trois premières causes de mortalité évitable : 49 000 décès par an sont attribuables à sa consommation. \nDry January est une campagne de santé publique initiée au Royaume-Uni par l’association britannique Alcohol Change UK. Devenue un mouvement international\, cette campagne s’est aujourd’hui étendue à de nombreux pays. En France\, sous le nom du Défi de Janvier\, elle est portée par un collectif d’associations et de réseaux nationaux.
URL:https://ideuzo.com/date-rh/dry-january-%e2%98%95%ef%b8%8f/
CATEGORIES:RSE
END:VEVENT
BEGIN:VEVENT
DTSTART;VALUE=DATE:20250101
DTEND;VALUE=DATE:20250102
DTSTAMP:20260425T131153
CREATED:20241220T095010Z
LAST-MODIFIED:20250228T133723Z
UID:10000003-1735689600-1735775999@ideuzo.com
SUMMARY:Mois du mentorat
DESCRIPTION:En janvier\, le mois du mentorat\nCélébrons ensemble le mentorat et l’engagement des citoyens qui lui donnent vie. Mentors\, mentorés\, entreprises\, acteurs publics et socio-éducatifs\, rendez-vous pendant tout le mois de janvier\, en ligne ou à travers le territoire\, pour mettre la lumière sur le mentorat et sur l’impact qu’il génère chez les jeunes\, les mentors et pour l’ensemble de la société. \n\nAu cœur des quartiers comme dans les campagnes\, des structures créent et animent des programmes de mentorat. Elles s’adressent aux enfants\, aux adolescents et aux jeunes adultes\, et visent à lutter contre les inégalités\, favoriser la réussite scolaire et à améliorer l’insertion professionnelle. Le mentorat bénéficie ainsi à ce public\, mais également aux mentors ainsi qu’aux territoires concernés. \n\nAnnoncée par le président de la République en mars 2021 dans le cadre de l’agenda en faveur de l’égalité des chances\, cette initiative s’inscrit dans le plan 1 jeune\, 1 solution pour donner aux jeunes toutes les ressources pour préparer leur avenir. \nCe plan national de soutien au mentorat a permis aux associations d’accompagner 160 000 jeunes en 2023. Le Collectif Mentorat pilote et anime la plate-forme 1 jeune\, 1 mentor qui permet d’orienter vers les associations de mentorat les jeunes qui souhaitent être mentorés et les bénévoles qui proposent de devenir mentors.
URL:https://ideuzo.com/date-rh/mois-du-mentorat/
CATEGORIES:RSE
END:VEVENT
END:VCALENDAR