BEGIN:VCALENDAR
VERSION:2.0
PRODID:-//Agence de Communication RH &amp; Marketing RH - Ideuzo - ECPv6.15.20//NONSGML v1.0//EN
CALSCALE:GREGORIAN
METHOD:PUBLISH
X-WR-CALNAME:Agence de Communication RH &amp; Marketing RH - Ideuzo
X-ORIGINAL-URL:https://ideuzo.com
X-WR-CALDESC:Évènements pour Agence de Communication RH &amp; Marketing RH - Ideuzo
REFRESH-INTERVAL;VALUE=DURATION:PT1H
X-Robots-Tag:noindex
X-PUBLISHED-TTL:PT1H
BEGIN:VTIMEZONE
TZID:Europe/Paris
BEGIN:DAYLIGHT
TZOFFSETFROM:+0100
TZOFFSETTO:+0200
TZNAME:CEST
DTSTART:20240331T010000
END:DAYLIGHT
BEGIN:STANDARD
TZOFFSETFROM:+0200
TZOFFSETTO:+0100
TZNAME:CET
DTSTART:20241027T010000
END:STANDARD
BEGIN:DAYLIGHT
TZOFFSETFROM:+0100
TZOFFSETTO:+0200
TZNAME:CEST
DTSTART:20250330T010000
END:DAYLIGHT
BEGIN:STANDARD
TZOFFSETFROM:+0200
TZOFFSETTO:+0100
TZNAME:CET
DTSTART:20251026T010000
END:STANDARD
BEGIN:DAYLIGHT
TZOFFSETFROM:+0100
TZOFFSETTO:+0200
TZNAME:CEST
DTSTART:20260329T010000
END:DAYLIGHT
BEGIN:STANDARD
TZOFFSETFROM:+0200
TZOFFSETTO:+0100
TZNAME:CET
DTSTART:20261025T010000
END:STANDARD
END:VTIMEZONE
BEGIN:VEVENT
DTSTART;VALUE=DATE:20250204
DTEND;VALUE=DATE:20250205
DTSTAMP:20260424T214404
CREATED:20250112T203850Z
LAST-MODIFIED:20250303T100114Z
UID:10000098-1738627200-1738713599@ideuzo.com
SUMMARY:Journée mondiale contre le cancer
DESCRIPTION:Chaque année le 4 février\, pour la Journée mondiale contre le cancer\, l’Organisation mondiale de la Santé (OMS) et le Centre international de Recherche sur le Cancer (CIRC) soutiennent l’Union internationale contre le cancer (UICC) pour promouvoir les moyens de faire reculer la charge de morbidité imputable à cette maladie. \nA noter : le 15 février\, c’est la journée mondiale du cancer de l’enfant
URL:https://ideuzo.com/date-rh/journee-mondiale-contre-le-cancer/
CATEGORIES:Journées mondiales,RSE
END:VEVENT
BEGIN:VEVENT
DTSTART;VALUE=DATE:20250204
DTEND;VALUE=DATE:20250205
DTSTAMP:20260424T214404
CREATED:20250107T104521Z
LAST-MODIFIED:20250214T105511Z
UID:10000014-1738627200-1738713599@ideuzo.com
SUMMARY:Carrevolutis Afterwork Jobdating Tekkit
DESCRIPTION:Ces événements rassemblent plusieurs centaines de candidats soigneusement sélectionnés pour chaque édition\, grâce à une campagne de communication ciblée\, ainsi qu’au sourcing et à la chasse des meilleurs talents. \nDécouvrez les métiers de la tech à Strasbourg le 4 février 2025.
URL:https://ideuzo.com/date-rh/afterwork-jobdating-tekkit/
LOCATION:Strasbourg
CATEGORIES:Évènement RH
ATTACH;FMTTYPE=image/jpeg:https://ideuzo.com/wp-content/uploads/2025/01/tekkit_io_logo.jpg
END:VEVENT
BEGIN:VEVENT
DTSTART;VALUE=DATE:20250201
DTEND;VALUE=DATE:20250202
DTSTAMP:20260424T214404
CREATED:20250107T133344Z
LAST-MODIFIED:20250113T142250Z
UID:10000017-1738368000-1738454399@ideuzo.com
SUMMARY:Salon L'Etudiant
DESCRIPTION:Envisagez-vous d’approfondir vos études après un bac+3 ou de spécialiser davantage votre parcours académique ? Visitez le Salon masters\, mastères spécialisés et premier emploi\, en France et à l’international 2025 à Lyon et le Salon de l’Etudiant formations et recrutement en alternance 2025 à Rennes\, des événements essentiels pour les étudiants et les jeunes professionnels.\n\nConçu pour les détenteurs d’un bac+3 intéressés par un master\, les diplômés avec un master 2 et au moins trois ans d’expérience professionnelle visant un mastère spécialisé\, ainsi que les jeunes diplômés en quête de leur premier emploi\, ces salons sont des rendez-vous pour vous. Rencontrez des représentants de prestigieuses écoles\, universités\, et autres institutions spécialisées.\n\n\n\n\nProfitez de conférences\, d’ateliers\, et de stands pour découvrir une multitude de programmes\, comprendre les critères d’admission\, explorer des perspectives de carrière et étendre votre réseau professionnel. C’est une occasion incontournable pour affiner vos choix et avancer vers vos objectifs professionnels avec une vision claire de votre avenir.
URL:https://ideuzo.com/date-rh/salon-letudiant/
LOCATION:Lyon\, Place de la Bourse\, Lyon\, 69002
CATEGORIES:Évènement RH
ATTACH;FMTTYPE=image/webp:https://ideuzo.com/wp-content/uploads/2025/01/salon-etudiant.webp
END:VEVENT
BEGIN:VEVENT
DTSTART;VALUE=DATE:20250131
DTEND;VALUE=DATE:20250203
DTSTAMP:20260424T214404
CREATED:20250108T104442Z
LAST-MODIFIED:20250113T141359Z
UID:10000045-1738281600-1738540799@ideuzo.com
SUMMARY:Salon L'Etudiant
DESCRIPTION:Le Salon de l’Etudiant en Ile-de-France à Paris 2025\n\nVous êtes au lycée ou en études supérieures et vous réfléchissez à votre futur parcours d’études ? Le Salon de l’Etudiant en Ile-de-France 2025 à Paris est le rendez-vous incontournable pour éclairer votre projet d’orientation et façonner votre avenir.\n\nCet événement\, dédié à l’orientation et à la formation rassemble des représentants d’établissements d’enseignement supérieur\, de grandes écoles\, d’universités\, d’instituts et d’organismes de formation spécialisés. Il vous offre l’opportunité de découvrir un large panel de formations et d’échanger avec des professionnels qualifiés.\n\nA travers des conférences\, des ateliers et des stands d’information\, renseignez-vous sur les débouchés professionnels\, les conditions d’admission\, les programmes de formation\, tout en développant votre réseau et en affinant vos choix d’orientation.
URL:https://ideuzo.com/date-rh/salon-letudiant-19/
LOCATION:Paris
CATEGORIES:Évènement RH
ATTACH;FMTTYPE=image/jpeg:https://ideuzo.com/wp-content/uploads/2025/01/8553.jpg
END:VEVENT
BEGIN:VEVENT
DTSTART;VALUE=DATE:20250130
DTEND;VALUE=DATE:20250131
DTSTAMP:20260424T214404
CREATED:20250108T104227Z
LAST-MODIFIED:20250110T102454Z
UID:10000044-1738195200-1738281599@ideuzo.com
SUMMARY:Forum L'Etudiant
DESCRIPTION:Vous êtes au lycée ou en études supérieures et vous réfléchissez à votre futur parcours d’études ? Le Forum des études supérieures et des métiers 2025 à Perpignan est le rendez-vous incontournable pour éclairer votre projet d’orientation et façonner votre avenir.\n\nCet événement\, dédié à l’orientation et à la formation rassemble des représentants d’établissements d’enseignement supérieur\, de grandes écoles\, d’universités\, d’instituts et d’organismes de formation spécialisés. Il vous offre l’opportunité de découvrir un large panel de formations et d’échanger avec des professionnels qualifiés.\n\nA travers des ateliers et des stands d’information\, renseignez-vous sur les débouchés professionnels\, les conditions d’admission\, les programmes de formation\, tout en développant votre réseau et en affinant vos choix d’orientation.
URL:https://ideuzo.com/date-rh/forum-letudiant/
LOCATION:Perpignan
CATEGORIES:Évènement RH
ATTACH;FMTTYPE=image/webp:https://ideuzo.com/wp-content/uploads/2025/01/Perpignan_FESM_25_A3-scaled.webp
END:VEVENT
BEGIN:VEVENT
DTSTART;TZID=Europe/Paris:20250129T080000
DTEND;TZID=Europe/Paris:20250130T170000
DTSTAMP:20260424T214404
CREATED:20250113T152248Z
LAST-MODIFIED:20250117T171526Z
UID:10000136-1738137600-1738256400@ideuzo.com
SUMMARY:HR technologies Paris
DESCRIPTION:L’évènement du futur de la fonction RH\nHR Technologies France\, co-organisé avec Parlons RH\, réunit plus de 4 000 professionnels des RH\, du recrutement\, et de la gestion des talents du monde entier. Le salon s’impose comme LE rendez-vous immanquable des professionnels RH. \nL’objectif est de servir la communauté des ressources humaines en créant une nouvelle dynamique de rencontre entre décideurs et experts des technologies RH.
URL:https://ideuzo.com/date-rh/hr-technologies-paris/
LOCATION:Paris
CATEGORIES:Évènement RH
ATTACH;FMTTYPE=image/webp:https://ideuzo.com/wp-content/uploads/2025/01/HRT-Fr-Logo.webp
END:VEVENT
BEGIN:VEVENT
DTSTART;VALUE=DATE:20250125
DTEND;VALUE=DATE:20250126
DTSTAMP:20260424T214405
CREATED:20250108T131557Z
LAST-MODIFIED:20250110T145350Z
UID:10000050-1737763200-1737849599@ideuzo.com
SUMMARY:Salon Studyrama
DESCRIPTION:Rendez-vous sur les salons Studyrama Sup’Alternance & Apprentissage de Paris\, Metz et Bayonne le samedi 25 janvier\, pour préparer votre futur ! Venez découvrir les conseils de professionnels\, des étudiants et des entreprises et trouvez la formation qui vous correspond.\nInscription gratuite et obligatoire
URL:https://ideuzo.com/date-rh/salon-studyrama-7/
LOCATION:Paris
CATEGORIES:Évènement RH
ATTACH;FMTTYPE=image/png:https://ideuzo.com/wp-content/uploads/2025/01/salon-sup-alternance-paris-2016.png
END:VEVENT
BEGIN:VEVENT
DTSTART;VALUE=DATE:20250125
DTEND;VALUE=DATE:20250126
DTSTAMP:20260424T214405
CREATED:20250108T103650Z
LAST-MODIFIED:20250108T163442Z
UID:10000041-1737763200-1737849599@ideuzo.com
SUMMARY:Salon L'Etudiant
DESCRIPTION:Vous êtes au lycée ou en études supérieures et vous réfléchissez à votre futur parcours d’études ? Le Salon de l’Etudiant formations et recrutement en alternance 2025 à Caen\, le Salon de l’Etudiant 2025 à Dijon et le Salon des étudiants Grand Paris Sud 2025 à Evry-Courcouronnes sont les rendez-vous incontournables pour éclairer votre projet d’orientation et façonner votre avenir.\n\nCes événements\, dédiés à l’orientation et à la formation rassemblent des représentants d’établissements d’enseignement supérieur\, de grandes écoles\, d’universités\, d’instituts et d’organismes de formation spécialisés. Ils vous offrent l’opportunité de découvrir un large panel de formations et d’échanger avec des professionnels qualifiés.\n\nA travers des conférences\, des ateliers et des stands d’information\, renseignez-vous sur les débouchés professionnels\, les conditions d’admission\, les programmes de formation\, tout en développant votre réseau et en affinant vos choix d’orientation.
URL:https://ideuzo.com/date-rh/salon-letudiant-16/
LOCATION:Caen
CATEGORIES:Évènement RH
ATTACH;FMTTYPE=image/webp:https://ideuzo.com/wp-content/uploads/2025/01/salon-etudiant.webp
END:VEVENT
BEGIN:VEVENT
DTSTART;VALUE=DATE:20250124
DTEND;VALUE=DATE:20250125
DTSTAMP:20260424T214405
CREATED:20250228T084207Z
LAST-MODIFIED:20250303T095956Z
UID:10000139-1737676800-1737763199@ideuzo.com
SUMMARY:Journée internationale du sport féminin
DESCRIPTION:La Journée internationale du sport féminin\, célébrée le 24 janvier\, est une occasion de mettre en lumière l’importance du sport pour l’autonomisation des femmes et des filles à travers le monde. Cette journée vise à reconnaître le rôle essentiel du sport dans la promotion de l’égalité des genres\, de l’inclusion et du développement durable.
URL:https://ideuzo.com/date-rh/journee-internationale-du-sport-feminin/
CATEGORIES:Journées mondiales,RSE
END:VEVENT
BEGIN:VEVENT
DTSTART;VALUE=DATE:20250124
DTEND;VALUE=DATE:20250125
DTSTAMP:20260424T214405
CREATED:20241216T131302Z
LAST-MODIFIED:20250228T135453Z
UID:10000002-1737676800-1737763199@ideuzo.com
SUMMARY:Journée internationale de l'éducation
DESCRIPTION:L’éducation est un droit humain\, un bien public et une responsabilité publique. L’Assemblée générale des Nations Unies a proclamé le 24 janvier Journée internationale de l’éducation\, afin de célébrer le rôle de l’éducation pour la paix et le développement.
URL:https://ideuzo.com/date-rh/journee-internationale-de-leducation/
CATEGORIES:Journées mondiales,RSE
END:VEVENT
BEGIN:VEVENT
DTSTART;VALUE=DATE:20250123
DTEND;VALUE=DATE:20250125
DTSTAMP:20260424T214405
CREATED:20250103T151250Z
LAST-MODIFIED:20250113T132923Z
UID:10000010-1737590400-1737763199@ideuzo.com
SUMMARY:Salon du travail & mobilité professionnelle
DESCRIPTION:Les 23 et 24 janvier 2025\, rendez-vous au Salon du Travail & Mobilité professionnelle\, à Paris !\nVous êtes à la recherche d’un emploi ou d’une formation ? Vous envisagez une reconversion ou un projet professionnel en France ou à l’étranger ? Le salon du travail et de la Mobilité professionnelle de Paris est l’événement dédié à votre vie professionnelle ! \nPour la 11ème édition\, le Salon du Travail & Mobilité professionnelle s’adresse à tous les actifs et les demandeurs d’emploi qui souhaitent faire évoluer leur vie professionnelle. Qu’ils soient en reconversion professionnelle\, en quête d’une nouvelle expérience ou à la recherche d’un nouvel emploi… Installé à la Grande Halle de la Villette les 23 et 24 janvier 2025\, ce salon (organisé en partenariat avec France Travail\, l’APEC et l’Union des autoentrepreneurs) se compose de 5 villages pour répondre aux demandes de tous les visiteurs.
URL:https://ideuzo.com/date-rh/apec-salon-du-travail-mobilite-professionnelle/
LOCATION:Paris
CATEGORIES:Évènement RH
ATTACH;FMTTYPE=image/png:https://ideuzo.com/wp-content/uploads/2025/01/image-salon-du-travail-et-de-la-mobilite-pro.png
END:VEVENT
BEGIN:VEVENT
DTSTART;VALUE=DATE:20250118
DTEND;VALUE=DATE:20250119
DTSTAMP:20260424T214405
CREATED:20250108T131402Z
LAST-MODIFIED:20250110T143708Z
UID:10000049-1737158400-1737244799@ideuzo.com
SUMMARY:Salon Studyrama
DESCRIPTION:Sur le salon Studyrama des Etudes Supérieures & Alternance de Nancy vous pourrez rencontrer 800 Formations de Bac à Bac+5 (Université de Lorraine\, BTS\, des Grandes Ecoles\, des IUT\, des Ecoles spécialisées\, Prépas…). Vous pourrez assister à 6 conférences (Pass/L.AS\, Parcoursup\, Ecoles de commerce…). Inscription gratuite !
URL:https://ideuzo.com/date-rh/salon-studyrama-6/
LOCATION:Nancy
CATEGORIES:Évènement RH
ATTACH;FMTTYPE=image/webp:https://ideuzo.com/wp-content/uploads/2025/01/2th_nancy_jan_312x288_prouve-3.webp
END:VEVENT
BEGIN:VEVENT
DTSTART;VALUE=DATE:20250118
DTEND;VALUE=DATE:20250119
DTSTAMP:20260424T214405
CREATED:20250108T102513Z
LAST-MODIFIED:20250108T164907Z
UID:10000036-1737158400-1737244799@ideuzo.com
SUMMARY:Salon L'Etudiant
DESCRIPTION:Vous êtes au lycée ou en études supérieures et vous réfléchissez à votre futur parcours d’études ? Le Salon de l’Etudiant 2025 à Besançon\, Cergy Pontoise\, Chambéry\, Saint Quentin en Yvelines et le Salon masters\, mastères spécialisés et premier emploi en France et à l’international 2025 à Paris est le rendez-vous incontournable pour éclairer votre projet d’orientation et façonner votre avenir.\n\nCes événements\, dédiés à l’orientation et à la formation rassemblent des représentants d’établissements d’enseignement supérieur\, de grandes écoles\, d’universités\, d’instituts et d’organismes de formation spécialisés. Ils vous offrent l’opportunité de découvrir un large panel de formations et d’échanger avec des professionnels qualifiés.\n\nA travers des conférences\, des ateliers et des stands d’information\, renseignez-vous sur les débouchés professionnels\, les conditions d’admission\, les programmes de formation\, tout en développant votre réseau et en affinant vos choix d’orientation.
URL:https://ideuzo.com/date-rh/salon-letudiant-11/
LOCATION:Besançon
CATEGORIES:Évènement RH
ATTACH;FMTTYPE=image/webp:https://ideuzo.com/wp-content/uploads/2025/01/salon-etudiant.webp
END:VEVENT
BEGIN:VEVENT
DTSTART;VALUE=DATE:20250117
DTEND;VALUE=DATE:20250119
DTSTAMP:20260424T214405
CREATED:20250108T164714Z
LAST-MODIFIED:20250113T135737Z
UID:10000053-1737072000-1737244799@ideuzo.com
SUMMARY:Salon L'Etudiant
DESCRIPTION:Vous êtes au lycée ou en études supérieures et vous réfléchissez à votre futur parcours d’études ? Le Salon de l’Etudiant 2025 à Marseille et Poitiers sont les rendez-vous incontournables pour éclairer votre projet d’orientation et façonner votre avenir.\n\nCes événements\, dédiés à l’orientation et à la formation rassemble des représentants d’établissements d’enseignement supérieur\, de grandes écoles\, d’universités\, d’instituts et d’organismes de formation spécialisés. Ils vous offrent l’opportunité de découvrir un large panel de formations et d’échanger avec des professionnels qualifiés.\n\nA travers des conférences\, des ateliers et des stands d’information\, renseignez-vous sur les débouchés professionnels\, les conditions d’admission\, les programmes de formation\, tout en développant votre réseau et en affinant vos choix d’orientation.
URL:https://ideuzo.com/date-rh/salon-letudiant-20/
LOCATION:Marseille
CATEGORIES:Évènement RH
ATTACH;FMTTYPE=image/webp:https://ideuzo.com/wp-content/uploads/2025/01/salon-etudiant.webp
END:VEVENT
BEGIN:VEVENT
DTSTART;VALUE=DATE:20250117
DTEND;VALUE=DATE:20250119
DTSTAMP:20260424T214405
CREATED:20250108T105458Z
LAST-MODIFIED:20250110T141359Z
UID:10000048-1737072000-1737244799@ideuzo.com
SUMMARY:Salon Studyrama
DESCRIPTION:Le salon Studyrama des Etudes Supérieures de Nice vous donne rendez-vous au Palais des Expositions\, le vendredi 17 et le samedi 18 janvier 2025\, pour préparer votre futur ! \nSur ce salon vous pourrez échanger avec des spécialistes des études supérieures\, des professeurs et des étudiants à votre écoute toute la journée. Ils vous conseilleront au mieux sur vos choix de parcours parmi les plus de 800 formations de Bac à Bac +5 (dans tous les secteurs d’activités : Art\, Sport\, Management\, Ingénieur\, Numérique\, Commerce\, Marketing\, Luxe\, Santé\, Sciences\, Tourisme\, Design\, Transport\, Esport\, Environnement\, Social…)\, votre gestion de Parcoursup\, et votre vie étudiante à Nice.\nTous les niveaux d’études seront représentés : BTS\, Université\, IUT\, Classes préparatoires\, Grandes Ecoles\, Armées\, Ecoles spécialisées\, CFA..
URL:https://ideuzo.com/date-rh/salon-studyrama-5/
LOCATION:Nice
CATEGORIES:Évènement RH
ATTACH;FMTTYPE=image/png:https://ideuzo.com/wp-content/uploads/2025/01/2TH_Nice_1200x1200-1024x1024-1.png
END:VEVENT
BEGIN:VEVENT
DTSTART;VALUE=DATE:20250117
DTEND;VALUE=DATE:20250119
DTSTAMP:20260424T214405
CREATED:20250103T151419Z
LAST-MODIFIED:20250113T132408Z
UID:10000011-1737072000-1737244799@ideuzo.com
SUMMARY:Your Future
DESCRIPTION:À PROPOS DU SALON\n\n\n\n\n\n\n\n\n\n\n\n \nPour cette 6e édition\, lycéens\, étudiants\, jeunes diplômés\, écoles & entreprises sont réunis pour vivre 2 journées hors du commun. En une journée\, le lycéen pourra trouver sa formation\, se faire coacher et rencontrer son 1er réseau professionnel. Pour les étudiants ce sera l’occasion de trouver un stage\, une alternance ou un 1er emploi. \nLes entreprises et les établissements d’enseignement supérieur (Universités\, écoles\, BTS\, CFA…) interviennent sur des thématiques diverses via des conférences\, des masterclass et des plateaux TV diffusés en live. Elles auront des espaces et des moments dédiés pour faire naître des collaborations & des partenariats inédits autour d’échanges et moments conviviaux comme l’afterwork ou des soirées. \nVous l’aurez compris\, l’objectif est simple : créer des opportunités pour les jeunes\, créer un futur ! Tout cela en étant dans une atmosphère inspirante et chaleureuse au cœur d’un lieu historique & sportif.
URL:https://ideuzo.com/date-rh/your-future/
LOCATION:Parc des Princes Paris
CATEGORIES:Évènement RH
ATTACH;FMTTYPE=image/png:https://ideuzo.com/wp-content/uploads/2025/01/3888993566dac2caaf2ba.png
END:VEVENT
BEGIN:VEVENT
DTSTART;VALUE=DATE:20250116
DTEND;VALUE=DATE:20250119
DTSTAMP:20260424T214405
CREATED:20250107T152315Z
LAST-MODIFIED:20250113T092428Z
UID:10000031-1736985600-1737244799@ideuzo.com
SUMMARY:Salon L'Etudiant
DESCRIPTION:Le Salon de L’Etudiant\nVous êtes au lycée ou en études supérieures et vous réfléchissez à votre futur parcours d’études ? Le AUVERSUP 2025 à Clermont-Ferrand et le Salon du lycéen et de l’étudiant 2025 à Lille et Montpellier sont les rendez-vous incontournables pour éclairer votre projet d’orientation et façonner votre avenir.\n\nCes événements\, dédiés à l’orientation et à la formation rassemble des représentants d’établissements d’enseignement supérieur\, de grandes écoles\, d’universités\, d’instituts et d’organismes de formation spécialisés. Ils vous offrent l’opportunité de découvrir un large panel de formations et d’échanger avec des professionnels qualifiés.\n\nA travers des conférences\, des ateliers et des stands d’information\, renseignez-vous sur les débouchés professionnels\, les conditions d’admission\, les programmes de formation\, tout en développant votre réseau et en affinant vos choix d’orientation.
URL:https://ideuzo.com/date-rh/salon-letudiant-6/
LOCATION:Clermont-Ferrand
CATEGORIES:Évènement RH
ATTACH;FMTTYPE=image/webp:https://ideuzo.com/wp-content/uploads/2025/01/salon-etudiant.webp
END:VEVENT
BEGIN:VEVENT
DTSTART;VALUE=DATE:20250113
DTEND;VALUE=DATE:20250114
DTSTAMP:20260424T214405
CREATED:20250226T131422Z
LAST-MODIFIED:20250228T134855Z
UID:10000138-1736726400-1736812799@ideuzo.com
SUMMARY:Journée mondiale de l'hypersensibilité
DESCRIPTION:La Journée mondiale de l’hypersensibilité est une initiative visant à sensibiliser le public aux défis rencontrés par les personnes hypersensibles. Cette journée encourage la compréhension et l’acceptation des individus dont les perceptions et réactions émotionnelles sont plus intenses que la moyenne.
URL:https://ideuzo.com/date-rh/journee-mondiale-de-lhypersensibilite/
CATEGORIES:Journées mondiales,RSE
END:VEVENT
BEGIN:VEVENT
DTSTART;VALUE=DATE:20250111
DTEND;VALUE=DATE:20250112
DTSTAMP:20260424T214405
CREATED:20250108T104641Z
LAST-MODIFIED:20250113T083028Z
UID:10000046-1736553600-1736639999@ideuzo.com
SUMMARY:Salon Studyrama
DESCRIPTION:Salons Studyrama Sup’Alternance & Apprentissage\nSur les salons Studyrama Sup’Alternance & Apprentissage de Dijon et Strasbourg\, vous pourrez voir 500 Formations de Bac à Bac+5 (BTS\, des Grandes Ecoles\, des Ecoles spécialisées\, Entreprises…). \nVous pourrez assister à des conférences et retrouver 300 offres d’alternance.
URL:https://ideuzo.com/date-rh/salon-supalternance/
LOCATION:Dijon
CATEGORIES:Évènement RH
ATTACH;FMTTYPE=image/png:https://ideuzo.com/wp-content/uploads/2025/01/salon-sup-alternance-paris-2016.png
END:VEVENT
BEGIN:VEVENT
DTSTART;VALUE=DATE:20250111
DTEND;VALUE=DATE:20250112
DTSTAMP:20260424T214405
CREATED:20250107T152012Z
LAST-MODIFIED:20250113T142954Z
UID:10000030-1736553600-1736639999@ideuzo.com
SUMMARY:Salon L'Etudiant
DESCRIPTION:Le Salon de l’Etudiant à Toulon 2025\n\nVous êtes au lycée ou en études supérieures et vous réfléchissez à votre futur parcours d’études ? Le Salon de l’Etudiant 2025 à Toulon est le rendez-vous incontournable pour éclairer votre projet d’orientation et façonner votre avenir.\n\nCet événement\, dédié à l’orientation et à la formation rassemble des représentants d’établissements d’enseignement supérieur\, de grandes écoles\, d’universités\, d’instituts et d’organismes de formation spécialisés. Il vous offre l’opportunité de découvrir un large panel de formations et d’échanger avec des professionnels qualifiés.\n\nA travers des conférences\, des ateliers et des stands d’information\, renseignez-vous sur les débouchés professionnels\, les conditions d’admission\, les programmes de formation\, tout en développant votre réseau et en affinant vos choix d’orientation.
URL:https://ideuzo.com/date-rh/salon-letudiant-5/
LOCATION:Toulon\, Place Besagne\, Toulon\, 83000
CATEGORIES:Évènement RH
ATTACH;FMTTYPE=image/webp:https://ideuzo.com/wp-content/uploads/2025/01/affiche-salon-letudiant-2.webp
END:VEVENT
BEGIN:VEVENT
DTSTART;VALUE=DATE:20250111
DTEND;VALUE=DATE:20250112
DTSTAMP:20260424T214405
CREATED:20250111T222321Z
LAST-MODIFIED:20250213T133629Z
UID:10000087-1736553600-1736639999@ideuzo.com
SUMMARY:SEEKUBE Métiers finance & audit
DESCRIPTION:Des événements de recrutement pour tous ! \nSeekube c’est 500 jobdatings par an pour adresser tous les métiers. Inscris-toi sur la plateforme pour participer aux événements\, accède aux agendas des recruteurs de ton choix pour leur proposer un entretien\, reçois 100% de réponses à toutes tes candidatures.
URL:https://ideuzo.com/date-rh/seekube-metiers-finance-audit/
LOCATION:Virtuel
CATEGORIES:Évènement RH
END:VEVENT
BEGIN:VEVENT
DTSTART;TZID=Europe/Paris:20250109T090000
DTEND;TZID=Europe/Paris:20250111T170000
DTSTAMP:20260424T214405
CREATED:20241216T102926Z
LAST-MODIFIED:20250113T142456Z
UID:10000001-1736413200-1736614800@ideuzo.com
SUMMARY:Salon du lycée et de l’étudiant
DESCRIPTION:Salon du lycéen et de l’étudiant 2025\nVous êtes au lycée ou en études supérieures et vous réfléchissez à votre futur parcours d’études ? Le Salon du lycéen et de l’étudiant 2025 à Rennes est le rendez-vous incontournable pour éclairer votre projet d’orientation et façonner votre avenir. \nCet événement\, dédié à l’orientation et à la formation rassemble des représentants d’établissements d’enseignement supérieur\, de grandes écoles\, d’universités\, d’instituts et d’organismes de formation spécialisés. Il vous offre l’opportunité de découvrir un large panel de formations et d’échanger avec des professionnels qualifiés. \nA travers des conférences\, des ateliers et des stands d’information\, renseignez-vous sur les débouchés professionnels\, les conditions d’admission\, les programmes de formation\, tout en développant votre réseau et en affinant vos choix d’orientation.
URL:https://ideuzo.com/date-rh/salon-du-lycee-et-de-letudiant/
LOCATION:Rennes Parc Expo\, 2 La Haie Gautrais\, Bruz\, 35170\, France
CATEGORIES:Évènement RH
ATTACH;FMTTYPE=image/webp:https://ideuzo.com/wp-content/uploads/2024/12/salon_de_letudiant_rennes_2025.webp
END:VEVENT
BEGIN:VEVENT
DTSTART;VALUE=DATE:20250101
DTEND;VALUE=DATE:20250102
DTSTAMP:20260424T214405
CREATED:20241220T095258Z
LAST-MODIFIED:20250228T134110Z
UID:10000004-1735689600-1735775999@ideuzo.com
SUMMARY:Dry January
DESCRIPTION:Le défi du mois sans alcool\nInviter l’ensemble de la population à faire une pause dans sa consommation d’alcool\, durant tout le mois de janvier\, telle est l’ambition du Dry January ou Défi de janvier. Cette campagne est l’occasion de faire le point sur sa consommation d’alcool et de constater les bénéfices de cette pause. \n\n\n\nEn France\, l’alcool est l’une des trois premières causes de mortalité évitable : 49 000 décès par an sont attribuables à sa consommation. \nDry January est une campagne de santé publique initiée au Royaume-Uni par l’association britannique Alcohol Change UK. Devenue un mouvement international\, cette campagne s’est aujourd’hui étendue à de nombreux pays. En France\, sous le nom du Défi de Janvier\, elle est portée par un collectif d’associations et de réseaux nationaux.
URL:https://ideuzo.com/date-rh/dry-january-%e2%98%95%ef%b8%8f/
CATEGORIES:RSE
END:VEVENT
BEGIN:VEVENT
DTSTART;VALUE=DATE:20250101
DTEND;VALUE=DATE:20250102
DTSTAMP:20260424T214405
CREATED:20241220T095010Z
LAST-MODIFIED:20250228T133723Z
UID:10000003-1735689600-1735775999@ideuzo.com
SUMMARY:Mois du mentorat
DESCRIPTION:En janvier\, le mois du mentorat\nCélébrons ensemble le mentorat et l’engagement des citoyens qui lui donnent vie. Mentors\, mentorés\, entreprises\, acteurs publics et socio-éducatifs\, rendez-vous pendant tout le mois de janvier\, en ligne ou à travers le territoire\, pour mettre la lumière sur le mentorat et sur l’impact qu’il génère chez les jeunes\, les mentors et pour l’ensemble de la société. \n\nAu cœur des quartiers comme dans les campagnes\, des structures créent et animent des programmes de mentorat. Elles s’adressent aux enfants\, aux adolescents et aux jeunes adultes\, et visent à lutter contre les inégalités\, favoriser la réussite scolaire et à améliorer l’insertion professionnelle. Le mentorat bénéficie ainsi à ce public\, mais également aux mentors ainsi qu’aux territoires concernés. \n\nAnnoncée par le président de la République en mars 2021 dans le cadre de l’agenda en faveur de l’égalité des chances\, cette initiative s’inscrit dans le plan 1 jeune\, 1 solution pour donner aux jeunes toutes les ressources pour préparer leur avenir. \nCe plan national de soutien au mentorat a permis aux associations d’accompagner 160 000 jeunes en 2023. Le Collectif Mentorat pilote et anime la plate-forme 1 jeune\, 1 mentor qui permet d’orienter vers les associations de mentorat les jeunes qui souhaitent être mentorés et les bénévoles qui proposent de devenir mentors.
URL:https://ideuzo.com/date-rh/mois-du-mentorat/
CATEGORIES:RSE
END:VEVENT
END:VCALENDAR