BEGIN:VCALENDAR
VERSION:2.0
PRODID:-//Agence de Communication RH &amp; Marketing RH - Ideuzo - ECPv6.15.20//NONSGML v1.0//EN
CALSCALE:GREGORIAN
METHOD:PUBLISH
X-ORIGINAL-URL:https://ideuzo.com
X-WR-CALDESC:Évènements pour Agence de Communication RH &amp; Marketing RH - Ideuzo
REFRESH-INTERVAL;VALUE=DURATION:PT1H
X-Robots-Tag:noindex
X-PUBLISHED-TTL:PT1H
BEGIN:VTIMEZONE
TZID:Europe/Paris
BEGIN:DAYLIGHT
TZOFFSETFROM:+0100
TZOFFSETTO:+0200
TZNAME:CEST
DTSTART:20240331T010000
END:DAYLIGHT
BEGIN:STANDARD
TZOFFSETFROM:+0200
TZOFFSETTO:+0100
TZNAME:CET
DTSTART:20241027T010000
END:STANDARD
BEGIN:DAYLIGHT
TZOFFSETFROM:+0100
TZOFFSETTO:+0200
TZNAME:CEST
DTSTART:20250330T010000
END:DAYLIGHT
BEGIN:STANDARD
TZOFFSETFROM:+0200
TZOFFSETTO:+0100
TZNAME:CET
DTSTART:20251026T010000
END:STANDARD
BEGIN:DAYLIGHT
TZOFFSETFROM:+0100
TZOFFSETTO:+0200
TZNAME:CEST
DTSTART:20260329T010000
END:DAYLIGHT
BEGIN:STANDARD
TZOFFSETFROM:+0200
TZOFFSETTO:+0100
TZNAME:CET
DTSTART:20261025T010000
END:STANDARD
END:VTIMEZONE
BEGIN:VEVENT
DTSTART;VALUE=DATE:20250601
DTEND;VALUE=DATE:20250602
DTSTAMP:20260424T125524
CREATED:20250228T085657Z
LAST-MODIFIED:20250304T110212Z
UID:10000147-1748736000-1748822399@ideuzo.com
SUMMARY:Journée mondiale des parents
DESCRIPTION:La Journée mondiale des parents\, célébrée chaque année le 1er juin\, est une occasion de rendre hommage aux parents et à leur rôle essentiel dans le développement et le bien-être des enfants. \nCette journée met en lumière l’importance du soutien et de l’amour parental dans la construction de sociétés solides et harmonieuses\, et encourage la reconnaissance des défis et des sacrifices auxquels les parents font face au quotidien.\n \nPourquoi cette journée est-elle significative pour les entreprises ? \n\n\nRenforcement de l’engagement des employés : En reconnaissant et en célébrant le rôle des parents\, les entreprises favorisent un environnement de travail inclusif et solidaire\, ce qui peut améliorer la satisfaction et l’engagement des employés. \n\n\nAmélioration de la cohésion d’équipe : Organiser des événements liés à cette journée peut renforcer les liens entre collègues et promouvoir un esprit d’équipe positif. \n\n\nAttraction et fidélisation des talents : Les entreprises qui valorisent la parentalité et offrent des initiatives de soutien aux parents sont perçues favorablement\, ce qui peut attirer de nouveaux talents et retenir les employés existants.
URL:https://ideuzo.com/date-rh/journee-mondiale-des-parents/
CATEGORIES:Journées mondiales,RSE
END:VEVENT
BEGIN:VEVENT
DTSTART;TZID=Europe/Paris:20250603T080000
DTEND;TZID=Europe/Paris:20250605T170000
DTSTAMP:20260424T125524
CREATED:20250111T213442Z
LAST-MODIFIED:20250122T092738Z
UID:10000064-1748937600-1749142800@ideuzo.com
SUMMARY:Forum SEEKUBE Métiers de la Tech
DESCRIPTION:Des événements de recrutement pour tous ! \nSeekube c’est 500 jobdatings par an pour adresser tous les métiers. Inscris-toi sur la plateforme pour participer aux événements\, accède aux agendas des recruteurs de ton choix pour leur proposer un entretien\, reçois 100% de réponses à toutes tes candidatures.
URL:https://ideuzo.com/date-rh/seekube-metiers-de-la-tech/
LOCATION:Virtuel
CATEGORIES:Évènement RH
ATTACH;FMTTYPE=image/png:https://ideuzo.com/wp-content/uploads/2025/01/images-1.png
END:VEVENT
BEGIN:VEVENT
DTSTART;VALUE=DATE:20250604
DTEND;VALUE=DATE:20250605
DTSTAMP:20260424T125524
CREATED:20250425T145216Z
LAST-MODIFIED:20250425T145216Z
UID:10000173-1748995200-1749081599@ideuzo.com
SUMMARY:Webinar "IA & RH : cas concrets et perspectives pour une adoption maîtrisée"
DESCRIPTION:L’intelligence artificielle s’impose de plus en plus dans le secteur RH\, mais comment s’y retrouver entre promesses technologiques\, réalités de terrain et résistances au changement ? \nAccompagner la transformation sans se laisser submerger : l’IA peut-elle vraiment soulager la charge mentale des RH ? Quels usages sont déjà en place ? Comment structurer une démarche éthique\, progressive et à impact ? \nRejoignez-nous et découvrez comment Isabelle Bonhomme\, Christelle Vaugelade-Kalipé et Daniel Morais ont intégré l’IA dans leur quotidien RH.
URL:https://ideuzo.com/date-rh/webinar-ia-rh-cas-concrets-et-perspectives-pour-une-adoption-maitrisee/
CATEGORIES:Ideuzo at_work
END:VEVENT
BEGIN:VEVENT
DTSTART;VALUE=DATE:20250605
DTEND;VALUE=DATE:20250606
DTSTAMP:20260424T125524
CREATED:20250111T214709Z
LAST-MODIFIED:20250213T171806Z
UID:10000069-1749081600-1749167999@ideuzo.com
SUMMARY:Carrefour pour l'Emploi Niort Atlantique
DESCRIPTION:9ème édition du principal rendez-vous du travail en Poitou-Charentes avec la présence de très nombreux employeurs en face-à-face proposant de multiples offres d’emploi et de formation à des candidats avec ou sans expérience\, diplômés ou non\, en recherche d’un emploi\, d’un apprentissage\, d’une orientation ou d’une mobilité professionnelle. \nUne question sur le Carrefour Emploi Niort Atlantique ? Vous êtes une entreprise ou un centre de formation ? Consultez la brochure de présentation\, puis contactez-nous au 01 53 95 15 15 ou écrivez à info@carrefoursemploi.org
URL:https://ideuzo.com/date-rh/carrefour-pour-lemploi-2/
LOCATION:L’Acclameur – Niort\, 50 Rue Charles Darwin\, Niort\, 79000\, France
CATEGORIES:Évènement RH
ATTACH;FMTTYPE=image/jpeg:https://ideuzo.com/wp-content/uploads/2025/01/niort2025-020924125700-niort25-TEMPLATE-HEADER-MOBILE-logo-jpg.jpg
END:VEVENT
BEGIN:VEVENT
DTSTART;VALUE=DATE:20250605
DTEND;VALUE=DATE:20250606
DTSTAMP:20260424T125524
CREATED:20250112T205550Z
LAST-MODIFIED:20250304T110007Z
UID:10000111-1749081600-1749167999@ideuzo.com
SUMMARY:Journée de l'environnement
DESCRIPTION:La Journée mondiale de l’environnement\, célébrée chaque année le 5 juin\, est un moment clé pour sensibiliser la population mondiale à la protection de l’environnement et encourager l’action pour la préservation de la planète. \nCette journée met en lumière les défis écologiques mondiaux\, tels que le changement climatique\, la pollution\, la perte de biodiversité et la gestion des ressources naturelles\, tout en soulignant l’importance d’agir pour un avenir plus durable.\n \nPourquoi cette journée est-elle importante pour les entreprises ? \n\n\nResponsabilité sociale et environnementale : Participer à cette journée souligne l’engagement de votre entreprise envers des pratiques durables\, renforçant ainsi votre image de marque et votre responsabilité sociale. \n\n\nInnovation et compétitivité : Adopter des solutions écologiques peut stimuler l’innovation\, ouvrir de nouveaux marchés et améliorer l’efficacité opérationnelle\, contribuant ainsi à la compétitivité de votre entreprise. \n\n\nAttraction et fidélisation des talents : Les professionnels recherchent de plus en plus des employeurs engagés écologiquement. Montrer votre implication peut attirer des talents et renforcer la loyauté de vos employés.
URL:https://ideuzo.com/date-rh/journee-de-lenvironnement/
CATEGORIES:Journées mondiales,RSE
END:VEVENT
BEGIN:VEVENT
DTSTART;VALUE=DATE:20250605
DTEND;VALUE=DATE:20250606
DTSTAMP:20260424T125524
CREATED:20250425T073338Z
LAST-MODIFIED:20250425T073338Z
UID:10000172-1749081600-1749167999@ideuzo.com
SUMMARY:Les Trophées de l'engagement RH 2025 - myRHline
DESCRIPTION:Les Trophées de l’Engagement RH 2025\, organisés par myRHline\, récompensent les initiatives RH les plus inspirantes\, innovantes et transformatrices. L’événement met à l’honneur les directions RH qui s’engagent sur les grands enjeux actuels : attractivité\, QVCT\, inclusion\, digitalisation ou encore flexibilité. \nHuit trophées seront décernés\, couvrant des thématiques clés comme le recrutement\, l’onboarding\, la marque employeur ou la gestion des talents. \nLa cérémonie se tiendra le 5 juin 2025 à Paris\, lors d’une soirée qui célébrera aussi les 15 ans de myRHline. Les candidatures sont gratuites et ouvertes jusqu’au 28 avril 2025 à 18h. Un jury d’experts RH évaluera les projets présentés.
URL:https://ideuzo.com/date-rh/les-trophees-de-lengagement-rh-2025-myrhline/
LOCATION:Paris
CATEGORIES:Évènement RH
END:VEVENT
BEGIN:VEVENT
DTSTART;TZID=Europe/Paris:20250610T080000
DTEND;TZID=Europe/Paris:20250612T170000
DTSTAMP:20260424T125524
CREATED:20250111T213737Z
LAST-MODIFIED:20250122T141956Z
UID:10000065-1749542400-1749747600@ideuzo.com
SUMMARY:Forum SEEKUBE Métiers du business
DESCRIPTION:Des événements de recrutement pour tous ! \nSeekube c’est 500 jobdatings par an pour adresser tous les métiers. Inscris-toi sur la plateforme pour participer aux événements\, accède aux agendas des recruteurs de ton choix pour leur proposer un entretien\, reçois 100% de réponses à toutes tes candidatures.
URL:https://ideuzo.com/date-rh/seekube-metiers-du-business/
LOCATION:Virtuel
CATEGORIES:Évènement RH
ATTACH;FMTTYPE=image/png:https://ideuzo.com/wp-content/uploads/2025/01/images-2.png
END:VEVENT
BEGIN:VEVENT
DTSTART;TZID=Europe/Paris:20250611T080000
DTEND;TZID=Europe/Paris:20250614T180000
DTSTAMP:20260424T125524
CREATED:20250117T164848Z
LAST-MODIFIED:20250122T143344Z
UID:10000137-1749628800-1749924000@ideuzo.com
SUMMARY:VivaTech 2025
DESCRIPTION:VivaTech accélère l’innovation en connectant les startups\, les leaders technologiques\, les grandes entreprises et les investisseurs répondant aux plus grands défis de notre monde.\n \n\nLes principales start-ups\, investisseurs\, cadres et médias de 174 pays seront à VivaTech.  \n\nRejoignez-nous à Paris pour quatre jours d’accélération des affaires\, de mise en réseau et d’inspiration. \nEn quelques chiffres\, VivaTech c’est : \n-> 165 000 participants \n-> 3 500 exposants \n-> 400 orateurs \n-> 13 500 startups
URL:https://ideuzo.com/date-rh/vivatech-2025/
LOCATION:Paris Expo Porte de Versailles\, 1 Place de la Porte de Versailles\, Paris\, 75015
CATEGORIES:Évènement RH
ATTACH;FMTTYPE=image/png:https://ideuzo.com/wp-content/uploads/2025/01/medium_VT-2025.png
END:VEVENT
BEGIN:VEVENT
DTSTART;VALUE=DATE:20250612
DTEND;VALUE=DATE:20250613
DTSTAMP:20260424T125524
CREATED:20250111T214121Z
LAST-MODIFIED:20250213T171838Z
UID:10000067-1749686400-1749772799@ideuzo.com
SUMMARY:Carrevolutis Afterwork Jobdating Tekkit
DESCRIPTION:Au Programme\n🏢  Startups\, Licornes et Grands Groupes au rendez-vous \n📌  Des centaines d’offres d’emploi\, d’alternance et de stage \n🙋 Une table ronde et des talks dirigés par les entreprises \n🥂  Cocktail tout au long de la soirée \n🎯  Animations disséminées aux quatre coins de l’évènement \nComment cela se passe-t-il ?\n\nL’évènement ouvrira ses portes à 17h30 et prendra fin aux alentours de 21h. Les entreprises présentes seront installées dans un vaste espace propice aux rencontres et échanges entre représentants d’entreprise et candidats. Un cocktail sera proposé tout au long de la soirée\, et la table ronde ainsi que les différents talks prendront place à partir de 18h30. \n👉 L’inscription à cet évènement est gratuite mais obligatoire pour y participer. L’équipe Tekkit sélectionnera votre profil s’il correspond aux métiers représentés ainsi qu’aux offres des entreprises sur place. Après validation de votre candidature\, vous recevrez votre invitation à l’évènement. Une fois votre participation acceptée\, vous devez remplir votre profil Tekkit qui vous servira de CV durant l’évènement.
URL:https://ideuzo.com/date-rh/carrevolutis-afterwork-jobdating-tekkit/
LOCATION:Station F – Paris\, 5 Parv. Alan Turing\, Paris\, 75013\, France
CATEGORIES:Évènement RH
ATTACH;FMTTYPE=image/jpeg:https://ideuzo.com/wp-content/uploads/2025/01/tekkit_io_logo.jpg
END:VEVENT
BEGIN:VEVENT
DTSTART;VALUE=DATE:20250614
DTEND;VALUE=DATE:20250615
DTSTAMP:20260424T125524
CREATED:20250112T205705Z
LAST-MODIFIED:20250304T105757Z
UID:10000112-1749859200-1749945599@ideuzo.com
SUMMARY:Journée mondiale du donneur de sang
DESCRIPTION:La Journée mondiale du donneur de sang\, célébrée chaque année le 14 juin\, est une occasion de rendre hommage aux donneurs de sang volontaires et de sensibiliser le public à l’importance du don de sang pour sauver des vies. \nCette journée met en lumière le rôle vital des dons de sang dans les systèmes de santé\, permettant de traiter des blessures graves\, des maladies et de sauver des vies dans des situations d’urgence.\n \nPourquoi cette journée est-elle significative pour les entreprises ? \n\n\nResponsabilité sociale et engagement communautaire : Participer à cette journée démontre l’engagement de votre entreprise envers des causes humanitaires essentielles\, renforçant ainsi votre image de marque et votre responsabilité sociale. \n\n\nPromotion de la santé et du bien-être au travail : Encourager le don de sang au sein de votre entreprise favorise un environnement de travail sain et solidaire\, contribuant au bien-être général de vos employés. \n\n\nRenforcement de l’esprit d’équipe : Organiser des activités liées au don de sang peut renforcer la cohésion et l’engagement au sein de vos équipes\, en les mobilisant autour d’une cause noble.
URL:https://ideuzo.com/date-rh/journee-mondiale-du-donneur-de-sang/
CATEGORIES:Journées mondiales,RSE
END:VEVENT
BEGIN:VEVENT
DTSTART;TZID=Europe/Paris:20250616T080000
DTEND;TZID=Europe/Paris:20250620T170000
DTSTAMP:20260424T125524
CREATED:20250112T205742Z
LAST-MODIFIED:20250304T105144Z
UID:10000113-1750060800-1750438800@ideuzo.com
SUMMARY:Semaine de la qualité de vie au travail
DESCRIPTION:La Semaine pour la qualité de vie et des conditions de travail 2025 aura lieu du 16 au 20 juin. Une semaine pour valoriser dans toute la France les démarches d’entreprises qui permettent de conjuguer amélioration des conditions de travail et performance des organisations.\n \nPourquoi est-il important pour les entreprises de participer à cette semaine ? \n\n\nAmélioration du bien-être des employés : En mettant l’accent sur la qualité de vie au travail\, les entreprises favorisent un environnement sain et motivant\, ce qui peut réduire le stress et améliorer la satisfaction professionnelle. \n\n\nRenforcement de l’engagement et de la productivité : Des employés heureux et en bonne santé sont généralement plus engagés et productifs\, contribuant ainsi à la performance globale de l’entreprise. \n\n\nAttraction et fidélisation des talents : Les entreprises qui valorisent le bien-être au travail sont perçues positivement\, ce qui facilite le recrutement et la rétention des talents.
URL:https://ideuzo.com/date-rh/semaine-de-la-qualite-de-vie-au-travail/
CATEGORIES:RSE
END:VEVENT
BEGIN:VEVENT
DTSTART;TZID=Europe/Paris:20250617T080000
DTEND;TZID=Europe/Paris:20250619T170000
DTSTAMP:20260424T125524
CREATED:20250111T213917Z
LAST-MODIFIED:20250122T143614Z
UID:10000066-1750147200-1750352400@ideuzo.com
SUMMARY:SEEKUBE Métiers de l'Ingénieur
DESCRIPTION:Des événements de recrutement pour tous ! \nSeekube c’est 500 jobdatings par an pour adresser tous les métiers. Inscris-toi sur la plateforme pour participer aux événements\, accède aux agendas des recruteurs de ton choix pour leur proposer un entretien\, reçois 100% de réponses à toutes tes candidatures.
URL:https://ideuzo.com/date-rh/seekube-metiers-de-lingenieur/
LOCATION:Virtuel
CATEGORIES:Évènement RH
ATTACH;FMTTYPE=image/png:https://ideuzo.com/wp-content/uploads/2025/01/images-2.png
END:VEVENT
BEGIN:VEVENT
DTSTART;VALUE=DATE:20250620
DTEND;VALUE=DATE:20250621
DTSTAMP:20260424T125524
CREATED:20250228T085837Z
LAST-MODIFIED:20250304T105453Z
UID:10000148-1750377600-1750463999@ideuzo.com
SUMMARY:Journée mondiale des réfugiés
DESCRIPTION:La Journée mondiale des réfugiés\, célébrée chaque année le 20 juin\, est l’occasion de rendre hommage au courage et à la résilience des millions de personnes contraintes de fuir leur pays d’origine en raison de conflits ou de persécutions. \nPourquoi cette journée est-elle importante pour les entreprises ? \n\n\nResponsabilité sociale et engagement humanitaire : Participer à cette journée témoigne de l’engagement de votre entreprise envers les valeurs de solidarité et d’humanité\, renforçant ainsi votre image de marque et votre responsabilité sociale. \n\n\nPromotion de la diversité et de l’inclusion : Accueillir des réfugiés au sein de votre entreprise favorise la diversité culturelle\, enrichit les équipes et stimule l’innovation. \n\n\nSoutien à l’insertion professionnelle : Offrir des opportunités d’emploi aux réfugiés facilite leur intégration sociale et économique\, tout en répondant aux besoins de main-d’œuvre dans certains secteurs.
URL:https://ideuzo.com/date-rh/journee-mondiale-des-refugies/
CATEGORIES:Journées mondiales,RSE
END:VEVENT
BEGIN:VEVENT
DTSTART;VALUE=DATE:20250621
DTEND;VALUE=DATE:20250622
DTSTAMP:20260424T125524
CREATED:20250111T215148Z
LAST-MODIFIED:20250213T171901Z
UID:10000070-1750464000-1750550399@ideuzo.com
SUMMARY:Studyrama Salon Sup'Alternance et Apprentissage
DESCRIPTION:Le salon Studyrama de l’Alternance et de l’Apprentissage vous donne rendez-vous au Paris Event Center\, le samedi 21 juin 2025\, pour vous aider à trouver une formation ou une entreprise pour la rentrée ! Venez découvrir les conseils de professionnels\, étudiants et entreprises afin de trouver la formation qui vous correspond. \nCe salon de Paris sera l’opportunité de rencontrer de nombreux établissements publics et privés proposant des formations en alternance et en apprentissage : IUT\, lycées\, CFA\, écoles de commerce\, écoles d’ingénieurs\, écoles de métiers spécialisées dans des domaines variés : informatique\, commerce\, communication\, tourisme\, hôtellerie-restauration\, transport\, logistique…
URL:https://ideuzo.com/date-rh/studyrama-salon-supalternance-et-apprentissage/
LOCATION:Paris Event Center\, 20 Avenue de la Porte de la Villette\, Paris\, 75019\, France
CATEGORIES:Évènement RH
ATTACH;FMTTYPE=image/png:https://ideuzo.com/wp-content/uploads/2025/01/salon-sup-alternance-paris-2016.png
END:VEVENT
BEGIN:VEVENT
DTSTART;VALUE=DATE:20250624
DTEND;VALUE=DATE:20250625
DTSTAMP:20260424T125524
CREATED:20250111T214344Z
LAST-MODIFIED:20250213T171932Z
UID:10000068-1750723200-1750809599@ideuzo.com
SUMMARY:Carrevolutis Soirée Bizzeo Connect
DESCRIPTION:Au Programme \n🏯   Startups\, Licornes et Grands groupes ! \n🚨  Des centaines d’offres d’emploi\, de stage et d’alternance en tant que commercial ou dans la relation client. \n⚡  Des animations : Tir Laser\, Quizz sur le sport\, Mini-Golf\, Cornhole et Jeux de sport sur Switch. \n🍾  Cocktail dînatoire : Bière\, bar à jus\, petits fours. \nComment cela se passe ? \nLa soirée débutera à 17h30 et se terminera vers 21h. Un grand espace permettra de networker avec toutes les entreprises présentes\, un cocktail dinatoire sera à disposition durant toute la soirée et vous pourrez participer aux différentes animations centrées sur les valeurs du sport. \nComment y participer ?  \n👉 L’inscription est gratuite et obligatoire pour participer à l’événement (sur le site internet). \n🔥 L’équipe de Bizzeo sélectionnera votre profil s’il correspond aux métiers représentés et vous recevrez votre invitation définitive pour cette grande soirée.
URL:https://ideuzo.com/date-rh/carrevolutis-soiree-bizzeo-connect-5/
LOCATION:Matmut Stadium – Lyon\, 353 Avenue Jean Jaurès\, Lyon\, 69007
CATEGORIES:Évènement RH
ATTACH;FMTTYPE=image/jpeg:https://ideuzo.com/wp-content/uploads/2025/01/bizzeo_co_logo-1.jpg
END:VEVENT
BEGIN:VEVENT
DTSTART;VALUE=DATE:20250626
DTEND;VALUE=DATE:20250627
DTSTAMP:20260424T125524
CREATED:20250530T111405Z
LAST-MODIFIED:20250530T111518Z
UID:10000174-1750896000-1750982399@ideuzo.com
SUMMARY:Pink Hour
DESCRIPTION:Dans un contexte où l’attractivité et la fidélisation des talents sont devenues des enjeux cruciaux\, le recrutement communautaire émerge comme une approche innovante pour répondre aux défis actuels du marché. En capitalisant sur la force des communautés\, qu’il s’agisse de candidats\, de collaborateurs ou de groupes sectoriels\, les entreprises peuvent créer des liens plus authentiques et durables avec les talents. \nContrairement à une vision plus traditionnelle et linéaire du recrutement\, les stratégies communautaires s’appuient sur une logique d’échange\, de confiance et d’engagement mutuel. En améliorant l’expérience candidat grâce à des interactions plus personnalisées et continues\, les recruteurs instaurent une relation qui dépasse le simple processus d’embauche. \nNos intervenants partageront leurs réflexions et retours d’expérience sur la manière de structurer\, animer et faire vivre ces communautés pour en faire un levier puissant de recrutement\, d’attractivité et de rétention. \n\n\n\nNicolas Pasetti sera présent pour parler de ces sujets !
URL:https://ideuzo.com/date-rh/pink-hour-2/
LOCATION:Biarritz
CATEGORIES:Évènement RH
END:VEVENT
END:VCALENDAR