BEGIN:VCALENDAR
VERSION:2.0
PRODID:-//Agence de Communication RH &amp; Marketing RH - Ideuzo - ECPv6.15.20//NONSGML v1.0//EN
CALSCALE:GREGORIAN
METHOD:PUBLISH
X-WR-CALNAME:Agence de Communication RH &amp; Marketing RH - Ideuzo
X-ORIGINAL-URL:https://ideuzo.com
X-WR-CALDESC:Évènements pour Agence de Communication RH &amp; Marketing RH - Ideuzo
REFRESH-INTERVAL;VALUE=DURATION:PT1H
X-Robots-Tag:noindex
X-PUBLISHED-TTL:PT1H
BEGIN:VTIMEZONE
TZID:Europe/Paris
BEGIN:DAYLIGHT
TZOFFSETFROM:+0100
TZOFFSETTO:+0200
TZNAME:CEST
DTSTART:20240331T010000
END:DAYLIGHT
BEGIN:STANDARD
TZOFFSETFROM:+0200
TZOFFSETTO:+0100
TZNAME:CET
DTSTART:20241027T010000
END:STANDARD
BEGIN:DAYLIGHT
TZOFFSETFROM:+0100
TZOFFSETTO:+0200
TZNAME:CEST
DTSTART:20250330T010000
END:DAYLIGHT
BEGIN:STANDARD
TZOFFSETFROM:+0200
TZOFFSETTO:+0100
TZNAME:CET
DTSTART:20251026T010000
END:STANDARD
BEGIN:DAYLIGHT
TZOFFSETFROM:+0100
TZOFFSETTO:+0200
TZNAME:CEST
DTSTART:20260329T010000
END:DAYLIGHT
BEGIN:STANDARD
TZOFFSETFROM:+0200
TZOFFSETTO:+0100
TZNAME:CET
DTSTART:20261025T010000
END:STANDARD
END:VTIMEZONE
BEGIN:VEVENT
DTSTART;VALUE=DATE:20250515
DTEND;VALUE=DATE:20250516
DTSTAMP:20260424T154753
CREATED:20250111T212443Z
LAST-MODIFIED:20250213T171529Z
UID:1132570-1747267200-1747353599@ideuzo.com
SUMMARY:L4M Salon 24H Emploi / Formation
DESCRIPTION:Cet événement qui se déroule à Blois donne l’opportunité aux candidates et candidats de rencontrer une quarantaine d’entreprises et centres de formation de la région. \nCela regroupe de nombreux secteurs comme le commerce\, la distribution\, la logistique\, l’assurance\, l’informatique\, la sécurité\, etc. Au total\, ce sera plusieurs centaines de postes à pourvoir\, tous contrats confondus : CDI\, CDD\, stage\, alternance. \nCe salon gratuit et ouvert à toutes et tous\, se déroule de 10 h à 17 h et s’adresse aux demandeuses et demandeurs d’emploi\, aux étudiantes et étudiants à la recherche d’un stage\, aux jeunes diplômé·es en quête du premier job\, mais aussi aux personnes en poste souhaitant compléter leur formation ou s’informer sur la reconversion professionnelle.
URL:https://ideuzo.com/date-rh/l4m-salon-24h-emploi-formation-2/
LOCATION:Le Jeu de Paume – Blois\, 66 Avenue de Châteaudun\, Blois\, 41000\, France
CATEGORIES:Évènement RH
ATTACH;FMTTYPE=image/jpeg:https://ideuzo.com/wp-content/uploads/2025/01/83905272.jpg
END:VEVENT
END:VCALENDAR