BEGIN:VCALENDAR
VERSION:2.0
PRODID:-//Agence de Communication RH &amp; Marketing RH - Ideuzo - ECPv6.15.20//NONSGML v1.0//EN
CALSCALE:GREGORIAN
METHOD:PUBLISH
X-WR-CALNAME:Agence de Communication RH &amp; Marketing RH - Ideuzo
X-ORIGINAL-URL:https://ideuzo.com
X-WR-CALDESC:Évènements pour Agence de Communication RH &amp; Marketing RH - Ideuzo
REFRESH-INTERVAL;VALUE=DURATION:PT1H
X-Robots-Tag:noindex
X-PUBLISHED-TTL:PT1H
BEGIN:VTIMEZONE
TZID:Europe/Paris
BEGIN:DAYLIGHT
TZOFFSETFROM:+0100
TZOFFSETTO:+0200
TZNAME:CEST
DTSTART:20240331T010000
END:DAYLIGHT
BEGIN:STANDARD
TZOFFSETFROM:+0200
TZOFFSETTO:+0100
TZNAME:CET
DTSTART:20241027T010000
END:STANDARD
BEGIN:DAYLIGHT
TZOFFSETFROM:+0100
TZOFFSETTO:+0200
TZNAME:CEST
DTSTART:20250330T010000
END:DAYLIGHT
BEGIN:STANDARD
TZOFFSETFROM:+0200
TZOFFSETTO:+0100
TZNAME:CET
DTSTART:20251026T010000
END:STANDARD
BEGIN:DAYLIGHT
TZOFFSETFROM:+0100
TZOFFSETTO:+0200
TZNAME:CEST
DTSTART:20260329T010000
END:DAYLIGHT
BEGIN:STANDARD
TZOFFSETFROM:+0200
TZOFFSETTO:+0100
TZNAME:CET
DTSTART:20261025T010000
END:STANDARD
END:VTIMEZONE
BEGIN:VEVENT
DTSTART;VALUE=DATE:20250424
DTEND;VALUE=DATE:20250425
DTSTAMP:20260424T160640
CREATED:20250111T211245Z
LAST-MODIFIED:20250213T171328Z
UID:1132455-1745452800-1745539199@ideuzo.com
SUMMARY:L4M Salon 24H Emploi / Formation
DESCRIPTION:Les « 24 Heures pour l’Emploi et la Formation » de Valenciennes se tiendront le jeudi 24 avril 2025 de 10 à 17h. Cette 18ème édition se tiendra une nouvelle fois à la Cité des Congrès à Anzin. Une quarantaine de structures (entreprises et centres de formation) seront présentes sur le salon afin de rencontrer les chercheurs d’emplois\, de stages et / ou de formations.
URL:https://ideuzo.com/date-rh/l4m-salon-24h-emploi-formation/
LOCATION:Cité des Congrès – Valenciennes\, 1 Esplanade des Rives Créatives de l'Escaut\, Anzin\, 59410\, France
CATEGORIES:Évènement RH
ATTACH;FMTTYPE=image/jpeg:https://ideuzo.com/wp-content/uploads/2025/01/83905272.jpg
END:VEVENT
END:VCALENDAR