BEGIN:VCALENDAR
VERSION:2.0
PRODID:-//Agence de Communication RH &amp; Marketing RH - Ideuzo - ECPv6.15.20//NONSGML v1.0//EN
CALSCALE:GREGORIAN
METHOD:PUBLISH
X-WR-CALNAME:Agence de Communication RH &amp; Marketing RH - Ideuzo
X-ORIGINAL-URL:https://ideuzo.com
X-WR-CALDESC:Évènements pour Agence de Communication RH &amp; Marketing RH - Ideuzo
REFRESH-INTERVAL;VALUE=DURATION:PT1H
X-Robots-Tag:noindex
X-PUBLISHED-TTL:PT1H
BEGIN:VTIMEZONE
TZID:Europe/Paris
BEGIN:DAYLIGHT
TZOFFSETFROM:+0100
TZOFFSETTO:+0200
TZNAME:CEST
DTSTART:20240331T010000
END:DAYLIGHT
BEGIN:STANDARD
TZOFFSETFROM:+0200
TZOFFSETTO:+0100
TZNAME:CET
DTSTART:20241027T010000
END:STANDARD
BEGIN:DAYLIGHT
TZOFFSETFROM:+0100
TZOFFSETTO:+0200
TZNAME:CEST
DTSTART:20250330T010000
END:DAYLIGHT
BEGIN:STANDARD
TZOFFSETFROM:+0200
TZOFFSETTO:+0100
TZNAME:CET
DTSTART:20251026T010000
END:STANDARD
BEGIN:DAYLIGHT
TZOFFSETFROM:+0100
TZOFFSETTO:+0200
TZNAME:CEST
DTSTART:20260329T010000
END:DAYLIGHT
BEGIN:STANDARD
TZOFFSETFROM:+0200
TZOFFSETTO:+0100
TZNAME:CET
DTSTART:20261025T010000
END:STANDARD
END:VTIMEZONE
BEGIN:VEVENT
DTSTART;VALUE=DATE:20250522
DTEND;VALUE=DATE:20250523
DTSTAMP:20260424T143151
CREATED:20250425T070836Z
LAST-MODIFIED:20250425T070836Z
UID:1854831-1747872000-1747958399@ideuzo.com
SUMMARY:Pink Hour
DESCRIPTION:Dans un contexte où l’expérience collaborateur devient un levier stratégique de différenciation\, les entreprises ne peuvent plus se contenter de séduire les candidats avec une promesse… qu’elles ne tiendront pas. Cette Pink Hour on Tour explore comment construire une culture d’entreprise authentique et engageante dès la phase de recrutement — une culture qui attire\, retient\, et fait grandir les talents.\n \n\nNos intervenants vous guideront à travers des questions clés pour réconcilier marketing RH et réalité terrain : \n\n\n\n\n\nPourquoi l’expérience collaborateur est-elle désormais au cœur des attentes des candidats ?\n\n\nComment ancrer la fidélisation des talents dans une culture d’entreprise forte\, assumée\, et partagée ?\n\n\nRecruteurs\, RH\, managers : qui porte réellement cette culture\, et comment s’en servir comme un atout durable ?\n\n\nEt si le meilleur recrutement était… celui qu’on ne faisait pas ? (focus sur la mobilité interne et la croissance des talents existants)
URL:https://ideuzo.com/date-rh/pink-hour/
LOCATION:Rennes\, L'Eclozr\, 1 rue du Général Maurice Guillaudot\, Rennes
CATEGORIES:Évènement RH
END:VEVENT
END:VCALENDAR