BEGIN:VCALENDAR
VERSION:2.0
PRODID:-//Agence de Communication RH &amp; Marketing RH - Ideuzo - ECPv6.15.20//NONSGML v1.0//EN
CALSCALE:GREGORIAN
METHOD:PUBLISH
X-WR-CALNAME:Agence de Communication RH &amp; Marketing RH - Ideuzo
X-ORIGINAL-URL:https://ideuzo.com
X-WR-CALDESC:Évènements pour Agence de Communication RH &amp; Marketing RH - Ideuzo
REFRESH-INTERVAL;VALUE=DURATION:PT1H
X-Robots-Tag:noindex
X-PUBLISHED-TTL:PT1H
BEGIN:VTIMEZONE
TZID:Europe/Paris
BEGIN:DAYLIGHT
TZOFFSETFROM:+0100
TZOFFSETTO:+0200
TZNAME:CEST
DTSTART:20240331T010000
END:DAYLIGHT
BEGIN:STANDARD
TZOFFSETFROM:+0200
TZOFFSETTO:+0100
TZNAME:CET
DTSTART:20241027T010000
END:STANDARD
BEGIN:DAYLIGHT
TZOFFSETFROM:+0100
TZOFFSETTO:+0200
TZNAME:CEST
DTSTART:20250330T010000
END:DAYLIGHT
BEGIN:STANDARD
TZOFFSETFROM:+0200
TZOFFSETTO:+0100
TZNAME:CET
DTSTART:20251026T010000
END:STANDARD
BEGIN:DAYLIGHT
TZOFFSETFROM:+0100
TZOFFSETTO:+0200
TZNAME:CEST
DTSTART:20260329T010000
END:DAYLIGHT
BEGIN:STANDARD
TZOFFSETFROM:+0200
TZOFFSETTO:+0100
TZNAME:CET
DTSTART:20261025T010000
END:STANDARD
END:VTIMEZONE
BEGIN:VEVENT
DTSTART;VALUE=DATE:20250930
DTEND;VALUE=DATE:20251001
DTSTAMP:20260424T083844
CREATED:20250113T151712Z
LAST-MODIFIED:20250305T154555Z
UID:1144566-1759190400-1759276799@ideuzo.com
SUMMARY:Soirée Bizzeo Connect à Lille
DESCRIPTION:La soirée pour les Commerciaux et la Relation Client à Lille\nVous évoluez dans le secteur commercial ou de la relation client et vous recherchez à enrichir votre carrière ? \nBizzeo organise à Lille\, la grande soirée dédiée aux commerciaux et à la relation client\, vous retrouverez un grand nombre d’entreprises et d’animations lors de cette soirée du 30 septembre 2025 à partir de 17h30. \nAu Programme \n🏯   Startups\, Licornes et Grands groupes ! \n🚨  Des centaines d’offres d’emploi\, de stage et d’alternance en tant que commercial ou dans la relation client. \n⚡  Des animations : Tir Laser\, Quizz sur le sport\, Mini-Golf\, Cornhole et Jeux de sport sur Switch. \n🍾  Cocktail dînatoire : Bière\, bar à jus\, petits fours. \nComment cela se passe ? \nLa soirée débutera à 17h30 et se terminera à 21h. Un grand espace permettra de networker avec toutes les entreprises présentes\, un cocktail dinatoire sera à disposition durant toute la soirée et vous pourrez participer aux différentes animations centrées sur les valeurs du sport.
URL:https://ideuzo.com/date-rh/soiree-bizzeo-connect-a-lille/
LOCATION:Lille\, Villeneuve-d'Ascq
CATEGORIES:Évènement RH
ATTACH;FMTTYPE=image/jpeg:https://ideuzo.com/wp-content/uploads/2025/01/bizzeo_co_logo.jpg
END:VEVENT
END:VCALENDAR