BEGIN:VCALENDAR
VERSION:2.0
PRODID:-//Agence de Communication RH &amp; Marketing RH - Ideuzo - ECPv6.15.20//NONSGML v1.0//EN
CALSCALE:GREGORIAN
METHOD:PUBLISH
X-WR-CALNAME:Agence de Communication RH &amp; Marketing RH - Ideuzo
X-ORIGINAL-URL:https://ideuzo.com
X-WR-CALDESC:Évènements pour Agence de Communication RH &amp; Marketing RH - Ideuzo
REFRESH-INTERVAL;VALUE=DURATION:PT1H
X-Robots-Tag:noindex
X-PUBLISHED-TTL:PT1H
BEGIN:VTIMEZONE
TZID:Europe/Paris
BEGIN:DAYLIGHT
TZOFFSETFROM:+0100
TZOFFSETTO:+0200
TZNAME:CEST
DTSTART:20240331T010000
END:DAYLIGHT
BEGIN:STANDARD
TZOFFSETFROM:+0200
TZOFFSETTO:+0100
TZNAME:CET
DTSTART:20241027T010000
END:STANDARD
BEGIN:DAYLIGHT
TZOFFSETFROM:+0100
TZOFFSETTO:+0200
TZNAME:CEST
DTSTART:20250330T010000
END:DAYLIGHT
BEGIN:STANDARD
TZOFFSETFROM:+0200
TZOFFSETTO:+0100
TZNAME:CET
DTSTART:20251026T010000
END:STANDARD
BEGIN:DAYLIGHT
TZOFFSETFROM:+0100
TZOFFSETTO:+0200
TZNAME:CEST
DTSTART:20260329T010000
END:DAYLIGHT
BEGIN:STANDARD
TZOFFSETFROM:+0200
TZOFFSETTO:+0100
TZNAME:CET
DTSTART:20261025T010000
END:STANDARD
END:VTIMEZONE
BEGIN:VEVENT
DTSTART;VALUE=DATE:20250402
DTEND;VALUE=DATE:20250403
DTSTAMP:20260424T173612
CREATED:20250306T144730Z
LAST-MODIFIED:20250306T150603Z
UID:1460962-1743552000-1743638399@ideuzo.com
SUMMARY:Webinar RH : Recruter des profils pénuriques
DESCRIPTION:Les talents rares sont plus convoités que jamais\, et leur recrutement est un vrai casse-tête pour les RH. Comment capter leur attention ? Quels leviers activer pour les séduire et les fidéliser ? \nÉlise Moron\, Co-founder de Blendy\, Fabien Boivent\, Strategic HR Director chez Groupe Roullier\, et Bernard Blottin\, Directeur Conseil chez Ideuzo at Work\, partageront leurs expériences\, leurs apprentissages et leurs meilleures pratiques pour vous aider à relever ce défi. \nAU PROGRAMME \n✅ Décryptage des tensions du marché : qui sont ces talents pénuriques et pourquoi sont-ils si difficiles à recruter ?\n✅ Stratégies gagnantes : quelles actions concrètes mettre en place pour capter leur intérêt ?\n✅ Études de cas & retours d’expérience : ce qui fonctionne (et ce qui ne fonctionne pas) en 2025 \n👉 Inscrivez-vous dès maintenant !
URL:https://ideuzo.com/date-rh/webinar-rh-recruter-des-profils-penuriques/
CATEGORIES:Ideuzo at_work
END:VEVENT
END:VCALENDAR